BEGIN:VCALENDAR
VERSION:2.0
PRODID:-//https://transalpclub.nl///NONSGML kigkonsult.se iCalcreator 2.10.15//
METHOD:PUBLISH
BEGIN:VEVENT
UID:20260420T031126CEST-29370Pk1jo@https://transalpclub.nl/
DTSTAMP:20260420T011126Z
DESCRIPTION:De startlocatie is het parkeerterrein van restaurant van de Val
 k in Vianen (Prins Bernhardstraat 75\, 4132 XE Vianen). Starten vanaf 10:3
 0 uur\, tot aan de lunch is het ongeveer 2 uur rijden. Als je niet alleen 
 wil rijden zorg dan dat je om 10:30 uur op de startlocatie bent\, dan kun 
 je bij iemand aanhaken. Ook op de startlocatie moeten de coronaregels in a
 cht genomen worden\, dat betekent anderhalve meter afstand houden en in gr
 oepjes van maximaal twee personen.\n \nLET OP: het is noodzakelijk je voor
 af voor deze route in te schrijven zodat we weten hoeveel lunchpakketten e
 r gemaakt moeten worden!\n \nDe lunchlocatie is Zalencentrum De Avezathen\
 , Daver 46\, 4012 BC Kerk-Avezaath. Hier kan vanaf 12:30 een lunchpakket e
 n een drankje worden afgehaald. Het is niet toegestaan om op het terras va
 n het zalencentrum plaats te nemen\, maar daaromheen is voldoende plek om 
 je motor te parkeren en in de buurt van je motor de lunch te nuttigen. Max
 imaal met twee personen bij elkaar lunchen en anderhalve meter afstand hou
 den\, dan doe je het volgens de regels.\n \nKijk ook op het forum.\n \nTot
 ale lengte van de route is 160 km en 100% verhard.\n \nMeenemen: mondkapje
 \, geld voor twee pontjes (4 euro) en geld voor het lunchpakket (7\,50 eur
 o).\n \nInschrijven kan tot vrijdag aanstaande 22:00.\n  https://transalpc
 lub.nl/activiteiten/activiteiten-gepland/evenement/151-openingsrit-utrecht
DTSTART:20210314T090000Z
DTEND:20210314T160000Z
LOCATION:Regio Utrecht (Utrecht\, Netherlands)
SUMMARY:Openingsrit Utrecht
URL:https://transalpclub.nl/activiteiten/activiteiten-gepland/evenement/151
 -openingsrit-utrecht
END:VEVENT
END:VCALENDAR
