BEGIN:VCALENDAR
VERSION:2.0
PRODID:-//https://transalpclub.nl///NONSGML kigkonsult.se iCalcreator 2.10.15//
METHOD:PUBLISH
BEGIN:VEVENT
UID:20260420T024347CEST-2583d7RuFH@https://transalpclub.nl/
DTSTAMP:20260420T004347Z
DESCRIPTION:Naam organisator:            Willem Joosten &amp\; Marc van Til
 burg\nEmail:                                 pr@transalpclub.nl\nVerzamele
 n:                      Het Veerhuis Oeffelt\nStarttijd:                  
           Start 11:00      Verzamelen vanaf 10:00 uur\n \nNaam startlocati
 e:            Het Veerhuis Oeffelt\nAdres startlocatie:           Veerweg 
 2\nPostcode en plaats:          5441 PL Oeffelt\nTelefoon startlocatie:   
    0485 324 130\n \nNaam lunchlocatie wegroute:    D’n Buurman Mill\nAdres
 :                                    Stationsstraat 1\nPostcode en plaats:
                   5451 AM Mill\nTelefoon startlocatie:                06 3
 035 0314\n \nNaam lunchlocatie allroad route:    Cafetaria Trefpunt Venhor
 st\nAdres:                                    Statenweg 81\nPostcode en pl
 aats:                  5428 NL Venhorst\nTelefoon startlocatie:           
      0492 830 316\n \n \nLengte toertocht:        154 km volledig verhard 
 of 146 km allroad.\nEindlocatie toertocht:   Het Veerhuis Oeffelt 5441 PL 
 Oeffelt\n                                  \nSoort route:                V
 olledig verhard 154km en allroad 146km.\n \nDit jaar zitten we wat zuideli
 jker met de Oostrit\, we rijden door het land van Cuijk en de Maasheggen. 
 De Maasheggen is het enige biosfeergebied van Nederland erkend door UNESCO
 .We hebben dit keer een allroadrit van 146 km gemaakt door Marc van Tilbur
 g en een wegrit van 154 km gemaakt door Willem Joosten.Marc heeft een mooi
 e allroad route gemaakt waaromheen Willem een wegroute heeft gemaakt. De a
 llroadroute heeft een andere lunchlocatie dan de wegroute. Omdat de wegrou
 te op de sommige plaatsen de allroadroute kruist en ook in tegengestelde r
 ichting wordt deze in de andere richting gereden.\nLunchlocatie voor de al
 lroadroute is Cafetaria Trefpunt Venhorst in Venhorst. Hiervoor is aanmeld
 en niet nodig\, meld je natuurlijk wel aan voor de rit.\n \nLunchlocatie v
 oor de wegroute is Brasserie D’n Buurman in Mill.\n \nOmdat we met een gro
 ot aantal komen is er een kleine kaart waar iedereen een keuze kan maken u
 it de volgende sandwiches:\n- Pulled chicken\n- Carpaccio\n- Graved laks z
 alm\n- Brie met vijgen\n- Bourgondische kroket\nPrijs verschilt per gerech
 t tussen €8 en €10.\n \nOpgeven voor de lunch van de wegroute kan tot eind
 e inschrijving\, D'n Buurman gaf aan dat er genoeg ruimte is. https://tran
 salpclub.nl/activiteiten/activiteiten-gepland/evenement/156-oostrit
DTSTART:20210710T080000Z
DTEND:20210710T150000Z
LOCATION:Oeffelt ()
SUMMARY:Oostrit
URL:https://transalpclub.nl/activiteiten/activiteiten-gepland/evenement/156
 -oostrit
END:VEVENT
END:VCALENDAR
