BEGIN:VCALENDAR
VERSION:2.0
PRODID:-//https://transalpclub.nl///NONSGML kigkonsult.se iCalcreator 2.10.15//
METHOD:PUBLISH
BEGIN:VEVENT
UID:20260420T052437CEST-2553eRB1Ke@https://transalpclub.nl/
DTSTAMP:20260420T032437Z
DESCRIPTION:*VOL*Vanuit de technische commissie plannen we elk jaar een aan
 tal inspectiedagen aan het begin van het motor seizoen zodat je jouw motor
  grondig kunt laten inspecteren. Zo krijg je aan het begin van het seizoen
  al een goed inzicht in de huidige staat van je motor. En met dat inzicht 
 kun je vervolgens eventuele pijnpunten aanpakken zodat je samen met je mot
 or tip-top het nieuwe motor seizoen in kan gaan.\nDeelname aan deze inspec
 tiedagen is gratis\, maar je moet je wel inschrijven\, zodat degene die de
  inspecties uitvoeren je kunnen inplannen zodat je niet te lang op je beur
 t hoeft te wachten en iedereen voldoende aandacht kan krijgen.\n \nWat kan
  je verwachten?\nNadat de inschrijvingen verwerkt zijn wordt er een planni
 ng opgesteld en wordt je geïnformeerd voor welk dag-deel jij aan de beurt 
 bent voor de inspectie.\nTijdens de inspectie kan je meekijken hoe de insp
 ectie verloopt en hoe jouw motor op diverse cruciale punten wordt geïnspec
 teerd. De inspectie zelf duurt ca. 45 minuten\, waarna je samen met de ‘in
 specteur’ alle constateringen nog eens doorloopt en je tekst en uitleg kri
 jgt bij de bevindingen.Uiteindelijk krijg je een formulier waarop de aan t
 e pakken gebreken zijn opgesomd en kan je zelf bepalen wat je hiermee gaat
  doen. De keuze blijft hierbij altijd aan jou\, om de gebreken zelf aan te
  pakken\, naar een dealer te gaan\, of (en dat horen wij natuurlijk het li
 efst) bij een van ons langs komt. Je kan er dan voor kiezen om ons of in s
 amenwerking de punten aan te pakken. Zo kan je direct ook weer bijleren ov
 er de techniek van je eigen motor.\nNaast het feit dat het altijd heel gez
 ellig is en je samen met mede clubgenoten onder het genot van een hapje en
  drankje alvast het aankomende seizoen door neemt\, is het ook nog eens ee
 n leerzame dag.\nAfhankelijk van de hoeveelheid deelnemers kan het zijn da
 t we ook nog een korte workshop over een technisch onderwerp plannen.\n \n
 De locaties zijn verspreid over het land en vinden dit jaar volgens onders
 taand schema plaats:\n\nZondag 6 maart – Alphen aan den Rijn\nZaterdag 12 
 maart - Elburg\nZondag 27 maart - Sprundel\n\n \nTot één van deze inspecti
 e dagen en alvast een veilig motorseizoen gewenst namens de technische com
 missie\,\n \nAd Mies\, Hans Schaap &amp\; Rob Geelen. https://transalpclub
 .nl/activiteiten/activiteiten-gepland/evenement/165-inspectiedag-elburg-vo
 l
DTSTART:20220312T090000Z
DTEND:20220312T150000Z
LOCATION:PJS Motorbandenservice\, Elburg (Het Straatje 4b8\, 8081 Elburg\, 
 Netherlands)
SUMMARY:Inspectiedag Elburg *VOL*
URL:https://transalpclub.nl/activiteiten/activiteiten-gepland/evenement/165
 -inspectiedag-elburg-vol
END:VEVENT
END:VCALENDAR
