BEGIN:VCALENDAR
VERSION:2.0
PRODID:-//https://transalpclub.nl///NONSGML kigkonsult.se iCalcreator 2.10.15//
METHOD:PUBLISH
BEGIN:VEVENT
UID:20260421T102747CEST-7628pVzalJ@https://transalpclub.nl/
DTSTAMP:20260421T082747Z
DESCRIPTION: https://transalpclub.nl/activiteiten/activiteiten-gepland/even
 ement/240-itt-2026-duitsland
DTSTART:20260622T130000Z
DTEND:20260625T090000Z
LOCATION:Nedersaksen ()
SUMMARY:ITT 2026 Duitsland
URL:https://transalpclub.nl/activiteiten/activiteiten-gepland/evenement/240
 -itt-2026-duitsland
END:VEVENT
BEGIN:VEVENT
UID:20260421T102747CEST-7630JxUPFR@https://transalpclub.nl/
DTSTAMP:20260421T082747Z
DESCRIPTION:De Transalp Club Nederland bestaat 35 jaar dit jaar en dat gaan
  we in mei vieren met een jubileum NTT. \nDatumVrijdag 8 t/m zondag 10 mei
  2026 \n\nLocatie\nCamping De Kamperhoek\, Campensedijk 50 in Vogelwaarde 
 (Zeeland)\nWebsite: https://www.kamperhoek.nl\n \n\nKostenDe totale kosten
  bestaan uit eventkosten + de accommodatie.\n \nDe eventkosten bedragen: 
 \n€  95\,= per persoon voor TCN-leden en hun partner€ 115\,= per persoon v
 oor oud TCN-leden en nieuwe leden vanaf 1 januari 2026 en hun partner € 13
 5\,- per persoon voor niet-leden met een clubmotor en hun partner\nBovenge
 noemd bedrag is inclusief 2x ontbijt\, 2x avondeten\, alle drankjes op vri
 jdag en zaterdag en een feestavond.\n\n\n\n \nDe accommodatiekosten bedrag
 en:\nAccommodaties variëren van € 49\,=  voor een plaats met eigen kampeer
 middel voor max 2 pers tot € 436\,= voor een luxe FarmCampstent tot max 6 
 pers.\nBeddengoed (verplicht in de vaste accommodatie) a € 8\,50 per perso
 on of eigen beddengoed mee.\nBij de inschrijving van een accommodatie in h
 et formulier staat vermeld wat de kosten zijn voor de hoofdboeker en bedde
 ngoed en met hoeveel personen je van de kampeerplek/accommodatie gebruik k
 unt maken.\nWil je inschrijven voor een vaste accommodatie en je weet niet
  met wie dan kun je hier ook voor kiezen en regelt de TCN een plek voor je
  indien mogelijk natuurlijk.\n  Het programma voor het NTT is klaar en als
  bijlage toegevoegd. Speciale aandacht voor het programmaonderdeel 'Clinic
  off-road rijden'. De clinic off-road rijden tijdens het NTT 2025 is als z
 eer positief ontvangen door zowel de deelnemers als Luc Attema die de clin
 ic verzorgde. Luc heeft aangeboden om de clinic ook dit jaar tijdens het N
 TT te willen verzorgen samen met zijn vader. Door de fikse reisafstand zij
 n de kosten wel iets hoger dan vorig jaar. De clinic wordt aangeboden op d
 e vrijdagmiddag en op de zaterdagochtend en zaterdagmiddag. Voor de tijden
  zie het NTT programma. De clinic duurt ongeveer 2\,5 uur. Op basis van he
 t aantal inschrijvingen en de behoefte zullen er groepen gevormd worden.\n
 \n\n\nDe clinics zijn vooral gericht op deelnemers van het NTT die geen of
  nauwelijks off-road ervaring hebben. Ervaren off-road rijders kunnen zelf
 standig of met andere NTT deelnemers een beschikbare off-roaroute rijden.
 \nInschrijving clinic: ==&gt\; Inschrijfformulier clinic off-road rijden\n
 \nDe kosten van de clinic zijn per clinic € 60\,= per persoon.\nDe clinics
  worden alleen aangeboden aan deelnemers van het NTT2026.\nDe maximale gro
 epsgrootte is 15 deelnemers per clinic.\nIn principe kan je 1x aan een cli
 nic deelnemen maar als er ruimte is kan je nog een keer meedoen. Geef aan 
 bij jouw aanmelding of je hier interesse in hebt.\nDe aanmelding voor de c
 linic kan\, net als voor het NTT\, t/m 30 april a.s.\n\nInschrijven deelna
 me NTT ==&gt\; Inschrijfformulier NTT 2026 LET OP:\n\n\n\nIedereen moet zi
 ch apart inschrijven en er is plaats voor 125 deelnemers\nBen je geen hoof
 dboeker van een kampeerplek of accommodatie dan moet je bij de overnachtin
 gskeuze aanvinken:'Ik sluit aan bij een hoofdboeker (zelf afstemmen en bet
 aling via de hoofdboeker)' of 'Vaste accommodatie indien mogelijk | de TCN
  regelt de indeling en betaling\nEinddatum van inschrijving: 30 april a.s.
 .\n\nBetalingNa inschrijving ontvang je een bevestiging van ons van de boe
 king/deelname aan de clinic(s) en hoeveel je gaat betalen. Het volledige b
 edrag dien je dan binnen 7 dagen over te maken op rekening NL96 INGB 0007 
 8181 41 t.n.v. Transalp Club Nederland. Vermeld bij de overschrijving NTT2
 026\, naam en lid- of relatienummer. Beide inschrijving is op volgorde van
  inschrijving én betaling.\nNB: De Transalp Club Nederland is geen reisorg
 anisatie en voorziet niet in een annuleringsregeling. Spreek ingeval van e
 en annulering je eigen annuleringsverzekering aan. Bij annulering kan wel 
 worden bemiddeld met leden die eventueel op de wachtlijst staan.\n\n \nHeb
  je vragen stuur ons dan een bericht via ntt2026team@transalpclub.nl\n\n\n
 \n \n \n\n\n https://transalpclub.nl/activiteiten/activiteiten-gepland/eve
 nement/243-ntt-35-jarig-jubileum-inschrijven
DTSTART:20260508T120000Z
DTEND:20260510T140000Z
LOCATION:Vogelwaarde (Zeeuws Vlaanderen) ()
SUMMARY:NTT | 35-jarig jubileum (inschrijven)
URL:https://transalpclub.nl/activiteiten/activiteiten-gepland/evenement/243
 -ntt-35-jarig-jubileum-inschrijven
END:VEVENT
BEGIN:VEVENT
UID:20260421T102747CEST-7634uvosD7@https://transalpclub.nl/
DTSTAMP:20260421T082747Z
DESCRIPTION: https://transalpclub.nl/activiteiten/activiteiten-gepland/even
 ement/251-buitenlandweekend
DTSTART:20260918T080000Z
DTEND:20260920T150000Z
LOCATION:Duitsland ()
SUMMARY:Buitenlandweekend 
URL:https://transalpclub.nl/activiteiten/activiteiten-gepland/evenement/251
 -buitenlandweekend
END:VEVENT
BEGIN:VEVENT
UID:20260421T102747CEST-7635c8MHpR@https://transalpclub.nl/
DTSTAMP:20260421T082747Z
DESCRIPTION: https://transalpclub.nl/activiteiten/activiteiten-gepland/even
 ement/255-tcn-500-allroad-road-weekend
DTSTART:20261001T220000Z
DTEND:20261004T140000Z
LOCATION:Enter (OV) (Enter (OV))
SUMMARY:TCN 500 Allroad&road weekend
URL:https://transalpclub.nl/activiteiten/activiteiten-gepland/evenement/255
 -tcn-500-allroad-road-weekend
END:VEVENT
BEGIN:VEVENT
UID:20260421T102747CEST-7636PS1nsL@https://transalpclub.nl/
DTSTAMP:20260421T082747Z
DESCRIPTION: https://transalpclub.nl/activiteiten/activiteiten-gepland/even
 ement/256-drenthe-allroad-rit
DTSTART;VALUE=DATE:20260912
LOCATION:n.t.b. ()
SUMMARY:Drenthe Allroad rit
URL:https://transalpclub.nl/activiteiten/activiteiten-gepland/evenement/256
 -drenthe-allroad-rit
END:VEVENT
BEGIN:VEVENT
UID:20260421T102747CEST-76360fzfFp@https://transalpclub.nl/
DTSTAMP:20260421T082747Z
DESCRIPTION:START: Lage VuurscheVERZAMELEN vanaf 10 uur\, VERTREK vanaf 11 
 uur Ook zin in een leuke najaarsrit en een lekkere kop erwtensoep? \nOchte
 nd: Deze toerrit beginnen we op de Lage Vuursche met een kop koffie thee\,
  of fris\, klaar om van de mooie dag te gaan genieten! Vanaf het startpunt
  rijden we langs Beatrix\, via Soest naar het buitengebied van Amersfoort\
 , Hoogland-West. Dan via Eemnes\, met een klein stukkie snelweg (sorry)\, 
 naar de Flevopolder om daar een weidse blik te kunnen werpen over het Gooi
 - en Eemmeer.  Daarna schieten we weer het vaste land op langs de binnenwe
 ggetjes van het boeren Putten\, via een mooi stukje Veluwe langs Garderen\
 , door het Speulderbos\, (het bos van de dansende bomen) naar Ermelo. Op d
 e lunchlocatie zal je begroet worden met een lekkere kop snert en een koff
 ie\, thee of fris: 13:00-14:00 uur.  Lunchlocatie: Ermelo Lunch tussen 13:
 00-14:00 uur  Middag Vanaf de lunchlocatie Ermelo gaan we langs de boerenw
 eggetjes van Nijkerk en Leusden\, naar ‘Den Treek’\, het grootste particul
 iere familielandgoed van Nederland. Wolf ‘Bram’ is al plat\, rij evengoed 
 daar rustig\, maar mocht je tóch een tegenkomen…  Via Woudenberg rijden we
  langs militair oefenterrein de Leusderheide met alle respect over de Kolo
 nel van Royenlaan naar ‘t Hoogt’ voor een bakkie pleur. Dan weer tijd om o
 p huus aan te gaan!  Eindlocatie: Soest  Lengte toertocht: +/_ 161 km Soor
 t route: verhard (evt 500 m hard zandpad)  Inschrijfformulier: volgt later
 \nRoute details volgen na inschrijving Deze rit wordt verzorgd door Birgit
  Stins https://transalpclub.nl/activiteiten/activiteiten-gepland/evenement
 /257-snertrit-tourrit
DTSTART;VALUE=DATE:20261018
LOCATION:ntb (ntb)
SUMMARY:Snertrit | tourrit
URL:https://transalpclub.nl/activiteiten/activiteiten-gepland/evenement/257
 -snertrit-tourrit
END:VEVENT
BEGIN:VEVENT
UID:20260421T102747CEST-7638TK506V@https://transalpclub.nl/
DTSTAMP:20260421T082747Z
DESCRIPTION:Radboud heeft voor ons weer een veelbelovende rit in zijn eigen
  provincie Friesland uitgezet. Hieronder zijn omschrijving van de rit:\nFr
 iesland rit 2026De laatste kaart uit het Friesland kwartet. Na het Zuidwes
 ten\, Zuidoosten en Noordoosten is nu het Noordwesten van onze mooie provi
 ncie aan de beurt. Ook wel de graanschuur van Friesland genoemd.\nWe start
 en bij ons (Radboud) thuis in Sneek met koffie en oranjekoek\, en gaan zov
 eel mogelijk binnendoor over leuke kleine wegen\, over dijkjes\, gapers\, 
 en slapers richting het westen om later bij Makkum langs de dijk af te bui
 gen richting het Noorden. Net onder Harlingen maken groene weilanden langz
 aam plaats voor akkers. Langs grote State's en kleine dijkhuisjes richting
  De Zwarte Haan onze lunchlocatie die tegen de Waddenzeedijk aan geplakt l
 ijkt. Bij mooi weer op het prachtige terras\, bij minder mooi weer is binn
 en ook genoeg plaats. Loop de dijk even op om van het uitzicht over het wa
 d te genieten!Nadat we de inwendige mens hebben versterkt\, stappen we wee
 r op voor deel 2 van de route. Via de dijk met dijkhuisjes zakken we langz
 aam weer af van de akkers naar de weilanden. Slingerend door het groen ove
 r de oude Slagtedyk weer richting Sneek waar ons eindstation weer bij ons 
 thuis is.\nIk nodig jullie graag uit voor een dagje Friesland op de Honda!
 \nVertrek- en aankomstlocatie: Radboud PlaizierBoomkensdiep 10\, 8602 CP S
 neekTelefoonnummer: 0646188333\nVerzamelen vanaf 10:00 uurStart rit om 11:
 00 uur\nLunchlocatie: Restaurant de Zwarte HaanRestaurant De Zwarte HaanNi
 euwebildtdijk 428\, 9079 PG St.Jacobiparochie. \nDe route volgt nog! (Er b
 leek een groot deel van de route te zijn afgesloten\, waardoor deze aangep
 ast moet worden).\nAanmelden via evenement in de groep TCN 1-daagse ritten
 . Als jij die groep niet in het 1e scherm van de app ziet\, scrol dan even
  helemaal naar rechts en kijk of hem wel ziet als je op '+' klikt. Zo niet
 \, neem dan even contact op met Jan via: 06 2125 6248 https://transalpclub
 .nl/activiteiten/activiteiten-gepland/evenement/270-frieslandrit
DTSTART;VALUE=DATE:20260517
LOCATION:Radboud Plaizier\, Sneek ()
SUMMARY:Frieslandrit 
URL:https://transalpclub.nl/activiteiten/activiteiten-gepland/evenement/270
 -frieslandrit
END:VEVENT
BEGIN:VEVENT
UID:20260421T102747CEST-7640z5XFPl@https://transalpclub.nl/
DTSTAMP:20260421T082747Z
DESCRIPTION: https://transalpclub.nl/activiteiten/activiteiten-gepland/even
 ement/271-toer-activiteitencommissie-vergadering
DTSTART;VALUE=DATE:20261107
LOCATION:ntb (ntb)
SUMMARY:Toer & Activiteitencommissie vergadering
URL:https://transalpclub.nl/activiteiten/activiteiten-gepland/evenement/271
 -toer-activiteitencommissie-vergadering
END:VEVENT
END:VCALENDAR
