BEGIN:VCALENDAR
VERSION:2.0
PRODID:-//https://transalpclub.nl///NONSGML kigkonsult.se iCalcreator 2.10.15//
METHOD:PUBLISH
BEGIN:VEVENT
UID:20260419T194836CEST-6602ts35ur@https://transalpclub.nl/
DTSTAMP:20260419T174836Z
DESCRIPTION:Datum:                         6 september 2020\nNaam organisat
 or:      Rob Geelen / Stammtisch groene hart\nTelefoon:                   
   06 2294 3013\nEmail:                          info@motorbandenzaak.nl\nV
 erzamelen:                10:00 uur\nStarttijd:                     11:00 
 uur\n \nNaam startlocatie:      Motorbandenzaak\nAdres startlocatie:      
 Eikenlaan 259 E\nPostcode en plaats:    2404 BP\nGoogle:                  
     \nTelefoon startlocatie: 06 22 94 3013\nCoördinaten:               52.
 1318372\,4.6288635\,17\n \nPlus activiteit:            Aansluiten mogelijk
 heid tot ‘diner’\nAdres Plus activiteit:  Motorbandenzaak\n \nLengte toert
 ocht:        2x 80 km\nEindlocatie toertocht: Motorbandenzaak\n           
                         \nSoort route:                Verhard\nAlternatiev
 e route:      n.v.t.\n \n \nToelichting:\nOmdat het regelen van start/lunc
 h/eind locatie op voorhand te lasting is geworden tijdens deze corona tijd
 en is de Linge  rit afgelast. Als alternatief verzorgd motorbandenzaak de 
 ‘8 van Alphen’ rit. De rit is in de vorm van een 8 en bestaat uit twee 2 r
 ondjes van ieder ongeveer 80 km\, ten noorden en ten zuiden van Alphen aan
  den Rijn. Start\, lunch en eind punt bij Motorbandenzaak in Alphen aan de
 n Rijn. De lunch wordt verzorgd door de club. En voor wie dat wil kan aan 
 het einde van de rit ook nog wat te eten gezorgd worden. Ieder kan voor zi
 chzelf kiezen welk rondje hij/zij eerst rijdt\, of misschien  alleen even 
 in de ochtend of middag komt rijden. De echte diehards kunnen nog een rond
 je dubbel rijden.\nAan het einde van de rit kan er nog gezamenlijk gegeten
  worden. Vermeld duidelijk bij de inschrijving of je mee wilt eten zodat w
 e de juiste inkopen kunnen doen. Alleen eters die voor vrijdag 4 september
  hebben aan gegeven mee te eten kunnen ook daadwerkelijk mee eten.\n  http
 s://transalpclub.nl/activiteiten/activiteiten-historie/evenement/144-extra
 -de-8-van-alphen
DTSTART:20200906T080000Z
DTEND:20200906T150000Z
LOCATION:Motorbandenzaak\, Alphen a/d Rijn ( Eikenlaan 259E\, 2404BP Alphen
  aan den Rijn\, Netherlands)
SUMMARY:EXTRA: De 8 van Alphen
URL:https://transalpclub.nl/activiteiten/activiteiten-historie/evenement/14
 4-extra-de-8-van-alphen
END:VEVENT
END:VCALENDAR
