BEGIN:VCALENDAR
VERSION:2.0
PRODID:-//https://transalpclub.nl///NONSGML kigkonsult.se iCalcreator 2.10.15//
METHOD:PUBLISH
BEGIN:VEVENT
UID:20260419T212347CEST-9989oxsIgt@https://transalpclub.nl/
DTSTAMP:20260419T192347Z
DESCRIPTION:TCN 500\n1 t/m 4 Oktober\nEen lang weekend vol (OFF)ROAD!\n Hel
 aas is ook de TCN 500 in overleg met de organisatoren afgelast. De routes 
 en plannen bewaren we voor betere tijden en de betalingen zullen spoedig w
 orden teruggestort.\nDe TCN500 2020 belooft een fantastisch (ALL) ROAD wee
 kend te worden.\nOnze thuisbasis zal Camping de Notenwei in Enter zijn\, v
 an daaruit vertrekken de (all)road ritten en na een dag hard werken op onz
 e buffels\, kunnen wij hier weer aanschuiven voor het verzorgen van de inw
 endige mens.\nDe onverharde ritten zijn samengesteld door Bart Haarhuis di
 e ieder zandpad in de omgeving kent\, en ons enkele van de mooiste plekjes
  in de omgeving laat zien.\nOok aan de asfalt rijders is gedacht: Rene Lan
 kheet verzorgt de verharde route’s en zal ons ook zeker over mooie wegen l
 eiden.\nWe hebben op de camping de beschikking over een ruime veranda en e
 en binnen verblijf waar ook het sanitair is gehuisvest\, echter zijn de da
 ar genuttigde drankjes voor eigen rekening. Zelf wat meenemen en bij de te
 nt nuttigen staat uiteraard vrij.\n \nSchrijf je snel in voor zaterdag 26 
 September! \nInschrijving pas definitief na inschrijving op de website en 
 betaling via de bank\, contante betaling niet mogelijk.\n \nProgamma:\nDon
 derdag:\n\nAankomst vanaf 16:00.\nSoep + broodjes (ook voor degene die lat
 er komen).\n\nVrijdag:\n\n+- 08:30 ontbijt.\n+- 9:30 start allroad Rit 2 d
 elen (98 + 180 KM) + wegrit\, onderweg afsnijden of eerder terug naar de c
 amping is mogelijk.\nLunch onderweg niet vastgelegd.\nVanaf 18:00-19:00 BB
 Q.\n\nZaterdag:\n\n+- 08:30 ontbijt\n+- 9:30 start allroad Rit 2 delen (80
  + 91 KM) + wegrit\nLunch onderweg niet vastgelegd.\nVanaf 18:00-19:00 Sta
 mpot buffet.\n\nZondag:\n\n+- 08:30 Ontbijt.\nKorte route\, zodat het tota
 al op 500+ KM komt.\n\n \n \nKosten:\nHele weekend incl 3x ontbijt\, soep 
 met broodjes\, bbq en Stamppotbuffet:              €85\nVrijdagmorgen aank
 omen\, 2x ontbijt\, BBQ en Stampotbuffet:                                €
 65\nAlleen vrijdag mee rijden + BBQ:                                      
                                   €15\nAlleen zaterdag mee rijden + Stampp
 otbuffet :                                                     €18    \n 
 \n\n\n\n  https://transalpclub.nl/activiteiten/activiteiten-historie/evene
 ment/147-afgelast-tcn-500-allroad-road-2020
DTSTART:20201001T140000Z
DTEND:20201004T100000Z
LOCATION:Camping de Notenwei  (Zeendamsweg\, 7468 RX Enter)
SUMMARY:AFGELAST TCN 500 Allroad + Road 2020
URL:https://transalpclub.nl/activiteiten/activiteiten-historie/evenement/14
 7-afgelast-tcn-500-allroad-road-2020
END:VEVENT
END:VCALENDAR
