BEGIN:VCALENDAR
VERSION:2.0
PRODID:-//https://transalpclub.nl///NONSGML kigkonsult.se iCalcreator 2.10.15//
METHOD:PUBLISH
BEGIN:VEVENT
UID:20260419T212224CEST-2535r5StmC@https://transalpclub.nl/
DTSTAMP:20260419T192224Z
DESCRIPTION:AFGELAST.\nPer activiteit kijken we of deze door kan gaan met d
 e dan geldende COVID-19 maatregelen\, hopelijk kunnen we dit jaar meer act
 iviteiten laten door gaan. https://transalpclub.nl/activiteiten/activiteit
 en-historie/evenement/148-afgelast-inspectiedag-elburg
DTSTART:20210306T090000Z
DTEND:20210306T160000Z
LOCATION:PJS Motorbandenservice\, Elburg (Het Straatje 4b8\, 8081 Elburg\, 
 Netherlands)
SUMMARY:AFGELAST Inspectiedag Elburg
URL:https://transalpclub.nl/activiteiten/activiteiten-historie/evenement/14
 8-afgelast-inspectiedag-elburg
END:VEVENT
END:VCALENDAR
