BEGIN:VCALENDAR
VERSION:2.0
PRODID:-//https://transalpclub.nl///NONSGML kigkonsult.se iCalcreator 2.10.15//
METHOD:PUBLISH
BEGIN:VEVENT
UID:20260419T212234CEST-7453LJfvBD@https://transalpclub.nl/
DTSTAMP:20260419T192234Z
DESCRIPTION:AFGELAST.\nPer activiteit kijken we of deze door kan gaan met d
 e dan geldende COVID-19 maatregelen\, hopelijk kunnen we dit jaar meer act
 iviteiten laten door gaan. https://transalpclub.nl/activiteiten/activiteit
 en-historie/evenement/149-afgelast-inspectiedag-alphen-a-d-rijn
DTSTART:20210321T090000Z
DTEND:20210321T160000Z
LOCATION:Motorbandenzaak\, Alphen a/d Rijn ( Eikenlaan 259E\, 2404BP Alphen
  aan den Rijn\, Netherlands)
SUMMARY:AFGELAST Inspectiedag Alphen a/d Rijn
URL:https://transalpclub.nl/activiteiten/activiteiten-historie/evenement/14
 9-afgelast-inspectiedag-alphen-a-d-rijn
END:VEVENT
END:VCALENDAR
