BEGIN:VCALENDAR
VERSION:2.0
PRODID:-//https://transalpclub.nl///NONSGML kigkonsult.se iCalcreator 2.10.15//
METHOD:PUBLISH
BEGIN:VEVENT
UID:20260419T212030CEST-74216IdI3O@https://transalpclub.nl/
DTSTAMP:20260419T192030Z
DESCRIPTION:AFGELAST.\nPer activiteit kijken we of deze door kan gaan met d
 e dan geldende COVID-19 maatregelen\, hopelijk kunnen we dit jaar meer act
 iviteiten laten door gaan. https://transalpclub.nl/activiteiten/activiteit
 en-historie/evenement/150-afgelast-inspectiedag-sprundel
DTSTART:20210328T080000Z
DTEND:20210328T150000Z
LOCATION:MSD Motorbandenservice\, Sprundel (Lange Hei 3\, 4714 RE Sprundel\
 , Netherlands)
SUMMARY:AFGELAST Inspectiedag Sprundel
URL:https://transalpclub.nl/activiteiten/activiteiten-historie/evenement/15
 0-afgelast-inspectiedag-sprundel
END:VEVENT
END:VCALENDAR
