BEGIN:VCALENDAR
VERSION:2.0
PRODID:-//https://transalpclub.nl///NONSGML kigkonsult.se iCalcreator 2.10.15//
METHOD:PUBLISH
BEGIN:VEVENT
UID:20260419T211634CEST-06311avU1n@https://transalpclub.nl/
DTSTAMP:20260419T191634Z
DESCRIPTION:Datum:                        Maandag 5 April (2e Paasdag)\nNaa
 m organisator:      Martin Wedekind\n \nVerzamelen:                Ermelo
 \nStarttijd:                     10:30u\nNaam startlocatie:      Mc Donald
 ’s Ermelo (Strand Horst)\nAdres startlocatie:      Palmbosweg 22\nPostcode
  en plaats:    3853 LB Ermelo\nTelefoon startlocatie: 0341-554888\n \n \n 
 \nLengte toertocht:        Ca. 120 km\nEindlocatie toertocht: Ermelo (Stra
 nd Horst)\n                                   \nSoort route:              
   Allroad (light)\nAlternatieve route:      Verharde route\n \nToelichting
 :\n*let op: starten vanaf 10:30 i.v.m. afstand tot lunch*\nVoor 2e Paasdag
  staat een mooie allroad route op het menu die start en eindigt in de omge
 ving van Strand Horst\, Ermelo. Uitgangspunt is dat de allroad rit door ie
 dereen\, ook met weinig tot geen ervaring\, gereden kan worden.\nAfhankeli
 jk van de weersomstandigheden kan er in het begin een lastig stukje in te 
 zitten\, waar de route via een tractorspoor door een weiland voert. Dit st
 uk is echter over te slaan en zal in de route staan aangegeven. Aan de and
 ere kant\, als het heel blubberig is en je kómt hier door\, dan zal ook de
  rest van de rit wel lukken!\nVoor degenen die liever niet allroad willen 
 rijden\, is er een alternatieve route gemaakt\, die een wat grotere lus ma
 akt. Deze is geheel verhard.\n \n \nStart en einde rit:\nMc Donald’s Ermel
 o (Strand Horst) Palmbosweg 22 3853 LB Ermelo\nWe delen koffiebonnen uit\,
  zodat iedere deelnemer een gratis kop koffie kan halen. Koffiebonnen kunn
 en alleen tussen 10:00 uur en 10:30 uur worden ingeleverd!\nEr mag gebruik
  worden gemaakt van de toiletten.\n \nLunchlocatie: Café/Restaurant De Rot
 terdammer Wolweg 40 3776 LP Stroe\nHier kunnen we (buiten) een lunch nutti
 gen\, met o.a. keuze uit een broodje zalm\, brie of kroket. Reken op €10\,
 - per persoon voor 2 belegde broodjes en een kop koffie\, melk\, of sap.\n
 Aanmelden voor zaterdag 3 april 18:00!\nEr mag gebruik worden gemaakt van 
 de toiletten.\n \nHoud de Corona maatregelen in acht\, neem dus een mondka
 pje mee! https://transalpclub.nl/activiteiten/activiteiten-historie/evenem
 ent/152-paasrit-allroad-light
DTSTART:20210405T080000Z
DTEND:20210405T150000Z
LOCATION:Ermelo (Ermelo\, Nederland)
SUMMARY:Paasrit + Allroad Light
URL:https://transalpclub.nl/activiteiten/activiteiten-historie/evenement/15
 2-paasrit-allroad-light
END:VEVENT
END:VCALENDAR
