BEGIN:VCALENDAR
VERSION:2.0
PRODID:-//https://transalpclub.nl///NONSGML kigkonsult.se iCalcreator 2.10.15//
METHOD:PUBLISH
BEGIN:VEVENT
UID:20260420T031146CEST-0542JFXwTH@https://transalpclub.nl/
DTSTAMP:20260420T011146Z
DESCRIPTION:Naam organisator:      Eric Goes\nVerzamelen:                10
 .00 uur\nStarttijd:                     11.00 uur\n \nNaam startlocatie:  
     Trainingscentrum Vakwijs B.V. (achterzijde gebouw)\nAdres startlocatie
 :      Moezelhavenweg 8\nPostcode en plaats:    1043AM Amsterdam (West)\nG
 oogle:                       https://goo.gl/maps/ozDRrd7yAh9ezU7Z8        
 \nTelefoon startlocatie: nvt             \nNaam lunchlocatie:     De goude
 n karper\n                                   Huigendijk 1\n               
                     1645RD Ursem\nPlus activiteit:            nvt\nAdres P
 lus activiteit:  nvt\nLengte toertocht:        circa 155 km\nEindlocatie t
 oertocht: Krijn Taconiskade 328-330\, 1087HW Amsterdam\n                  
      \nSoort route:                Road\nAlternatieve route:      nvt\nToe
 lichting:                 Lunch/ eindlocatie onder voorbehoud ivm Covid ma
 atregelen\n \nInschrijven uiterlijk donderdag 29 april i.v.m reserveren lu
 nch!\nDe route voert ons door het Westelijk havengebied van Amsterdam. We 
 volgen het Noordzeekanaal helemaal tot aan de nieuwe zeesluizen in IJmuide
 n. Het meest westelijke punt onze rit. Helaas is de openstelling voor gemo
 toriseerd verkeer uitgesteld en we zullen dus de tunnel moeten pakken. Via
  kleine polderweggetjes belanden we in de Zaanstreek alwaar we het Zaans i
 ndustrieel erfgoed kunnen aanschouwen. De bij toeristen zeer geliefde Zaan
 se Schans passeren we op gepaste afstand. Via de nodige slingerdijkjes bel
 anden we bij onze lunchlocatie in het noordelijk gelegen Ursem. Na de lunc
 h trekken we naar het meest oostelijke punt van de rit en volgen de contou
 ren van het IJsselmeer richting het zuiden.\n \nToelichting lunch:\nHet re
 staurant verzorgt lunchpakketten die we op het parkeerterrein op gepaste a
 fstand van elkaar kunnen nuttigen Ook kunnen we gebruik maken van de sanit
 aire voorzieningen. Wel een voor een\, mondkapje\, handen ontsmetten blah 
 blah.\nKosten lunchpakket: €10\nInhoud:\nItaliaanse Bol Gezond (ham/kaas/g
 ekookt ei/ sla/tomaat/augurk en komkommer)\nBroodje knakworst\nKrentenbol
 \nVerse Jus d’orange fles 200 ml\nAppel\nGevulde Appelkoek https://transal
 pclub.nl/activiteiten/activiteiten-historie/evenement/153-noord-hollandrit
DTSTART:20210502T080000Z
DTEND:20210502T150000Z
LOCATION:Amsterdam ()
SUMMARY:Noord-Hollandrit
URL:https://transalpclub.nl/activiteiten/activiteiten-historie/evenement/15
 3-noord-hollandrit
END:VEVENT
END:VCALENDAR
