BEGIN:VCALENDAR
VERSION:2.0
PRODID:-//https://transalpclub.nl///NONSGML kigkonsult.se iCalcreator 2.10.15//
METHOD:PUBLISH
BEGIN:VEVENT
UID:20260420T030312CEST-1990vobZGN@https://transalpclub.nl/
DTSTAMP:20260420T010312Z
DESCRIPTION:Naam organisator:            Radboud Plaizier\nEmail:          
                         bsplaizier(at)gmail.com\nVerzamelen:              
         McDonalds Lemmer\nStarttijd:                             Start 11:
 00      Verzamelen vanaf 10:30 uur\n \nNaam startlocatie:            McDon
 alds Lemmer\nAdres startlocatie:            Transveer 1\nPostcode en plaat
 s:          8531 DM Lemmer\nTelefoon startlocatie:       0514-534494\n \nP
 lus activiteit:            lunchpakket beschikbaar bij fontein Stavoren\nS
 nackbar en viskraam\n \nAdres Plus activiteit: \nStationsweg 23 Stavoren 
 \nLengte toertocht:        ongeveer 150 km\nEindlocatie toertocht: Paviljo
 en Mirnserklif   Murnserdyk 46A 8573WP Mirns\n                            
        \nSoort route:                Verhard met 3000 meter onverhard\nAlt
 ernatieve route:      Omleiding volgen\n \n \n \nToelichting:\nFrieslandri
 t 2021\n \nWe starten met een klap op de schouder en koffie bij de McDonal
 ds in Lemmer\, onder aan de afslag A6.\nWe verkennen Zuid-West Friesland e
 n komen op bijzondere plaatsen.\nVia kleine dorpjes zoals Doniaga en Sint 
 Nicolaasga gaan we binnendoor naar Joure om vervolgens om het Sneekermeer 
 heen bij het Kameleondorp Terherne uit te komen.\nVerder via Irnsum\, Gauw
  en Scharnegoutum naar Sneek: één van de 11 steden van Friesland.\nWe kome
 n door/ langs zeven van de 11 steden en wie wil kan bij deze steden de bij
 zondere fonteinen bezoeken. (Sneek\, IJlst\, Bolsward\, Workum\, Hindeloop
 en\, Stavoren en Sloten)\nVerder weer langs dijkweggetjes\, meren en … het
  IJsselmeer.\nOnderweg komen we tussen Workum en Hindeloopen een boerderij
  tegen die op zijn kop staat! Lieuwe Klazes Leane 3.\nhttps://maps.app.goo
 .gl/tQJ8YV2G86HTeQzk7\nWe rijden verder naar Stavoren\, waar we bij de fon
 tein (een enorme vis!) parkeren om de lunch te genieten. Hier zijn bij opg
 ave lunchpakket te verkrijgen (€10\,-) Op deze locatie staan ook een viskr
 aam en een snackbar.\nLunchpakket (broodje gezond\, broodje knak\, appel\,
  pakje sap.)  \nBuikje rond…. en door!!\nOp naar het monument bij Scharl (
  ‘Leaver dea as slaef’) . https://nl.m.wikipedia.org/wiki/Slag_bij_Warns\n
 We rijden door glooiend Friesland richting de Fluessen\, kijk eens naar de
  zeilende boten.\nDoor Woudsend om het Slotermeer naar Sloten\, het kleins
 te stadje van Friesland.\nWe zakken verder af binnendoor naar Ruigahuizen 
 waar we 3 km. zandweg bedwingen om verder verhard door de bossen\, langs d
 e dijk uit te komen bij het eindpunt Mirnserklif.\nEen prachtig stukje Fri
 esland met een gloednieuw paviljoen aan het IJsselmeer waar we wat kunnen 
 nuttigen terwijl we ons vergapen aan de stunts van de kitesurfers.\nBij mo
 oi weer de laarzen en sokken uit en verkoelend pootjebaden of zwemmen voor
  we weer opstappen om huiswaarts te keren.\nMocht u gebruik willen maken v
 an een camping: deze ligt tegenover het Paviljoen\, bij de eindlocatie.\nC
 amping de Braamberg  \nhttp://www.debraamberg.nl/\n  https://transalpclub.
 nl/activiteiten/activiteiten-historie/evenement/154-friesland-rit
DTSTART:20210530T080000Z
DTEND:20210530T150000Z
LOCATION:Lemmer ()
SUMMARY:Friesland Rit
URL:https://transalpclub.nl/activiteiten/activiteiten-historie/evenement/15
 4-friesland-rit
END:VEVENT
END:VCALENDAR
