BEGIN:VCALENDAR
VERSION:2.0
PRODID:-//https://transalpclub.nl///NONSGML kigkonsult.se iCalcreator 2.10.15//
METHOD:PUBLISH
BEGIN:VEVENT
UID:20260419T211419CEST-1044WT4kmk@https://transalpclub.nl/
DTSTAMP:20260419T191419Z
DESCRIPTION: https://transalpclub.nl/activiteiten/activiteiten-historie/eve
 nement/155-ntt-afgelast
DTSTART:20210624T140000Z
DTEND:20210627T140000Z
LOCATION:? ()
SUMMARY:NTT (Afgelast)
URL:https://transalpclub.nl/activiteiten/activiteiten-historie/evenement/15
 5-ntt-afgelast
END:VEVENT
END:VCALENDAR
