BEGIN:VCALENDAR
VERSION:2.0
PRODID:-//https://transalpclub.nl///NONSGML kigkonsult.se iCalcreator 2.10.15//
METHOD:PUBLISH
BEGIN:VEVENT
UID:20260420T024502CEST-9928Cuukb3@https://transalpclub.nl/
DTSTAMP:20260420T004502Z
DESCRIPTION:Datum:                         05-sept-2021\nNaam organisator: 
      Joris van Baars/ Dennis de Wit\nEmail:                          toerc
 ommissie@transalpclub.nl\nVerzamelen:                10:00\nStarttijd:    
                  11:00\n \nNaam startlocatie:      Restaurant 't Veerhuys 
 Leerdam\nAdres startlocatie:      Kerkstraat 93 \nTelefoon startlocatie: 0
 345 615 262         \n \n \nLengte toertocht:        170 KM\nEindlocatie t
 oertocht: Restaurant 't Veerhuys Leerdam\n                                
    \nSoort route:                Verhard\nAlternatieve route:      n.v.t.
 \n \n \n \nToelichting:\nDe Rivieren rit start met een bakkie koffie in Le
 erdam en voert ons lang de Neder-Rijn naar de lunchlocatie: De pannenkoeke
 nbakker (Valburgsestraat 22\, 6677 PC Slijk-Ewijk) waarna wij na het nutti
 gen van de maaltijd onze weg vervolgen langs de Waal terug naar het startp
 unt.\n \nGraag aanmelden voor 3 september i.v.m. het doorgeven van de deel
 nemersaantallen bij start en lunch.\n \nDeze Rit is uitgezet door Joris va
 n Baars\, door vakantie in het buitenland van Joris neemt Dennis de organi
 satie op de dag zelf op zich. https://transalpclub.nl/activiteiten/activit
 eiten-historie/evenement/157-rivierenrit
DTSTART:20210905T080000Z
DTEND:20210905T150000Z
LOCATION:Leerdam ()
SUMMARY:Rivierenrit
URL:https://transalpclub.nl/activiteiten/activiteiten-historie/evenement/15
 7-rivierenrit
END:VEVENT
END:VCALENDAR
