BEGIN:VCALENDAR
VERSION:2.0
PRODID:-//https://transalpclub.nl///NONSGML kigkonsult.se iCalcreator 2.10.15//
METHOD:PUBLISH
BEGIN:VEVENT
UID:20260419T211722CEST-8923VuXrfa@https://transalpclub.nl/
DTSTAMP:20260419T191722Z
DESCRIPTION:Datum:                         11-09-2021\nNaam organisator:   
    Jan en Harry Mink\nTelefoon:                    06-15425140 / 06-513760
 33\nEmail:                          jbmink@gmail.com / minklamein@gmail.co
 m\nVerzamelen:                10:00\nStarttijd:                     10:30
 \n \nNaam startlocatie:      MCdonalds Assen\nAdres startlocatie:      Hof
  van Parijs 1\nPostcode en plaats:    9403 DA Assen\n \n \nPlus activiteit
 :            Roadbook rit\nAdres Plus activiteit:  N.V.T.\n \nLengte toert
 ocht:        150-160 KM\nEindlocatie toertocht: N.T.B.\n                  
                  \nSoort route:                Allroad Roadbook\nAlternati
 eve route:      N.V.T.\n \n \n \nToelichting:\nDe gebroeders Mink zijn nog
  druk bezig met de voorbereidingen voor de Drenthe allroad 2021\, deze zal
  als vanouds weer volgens een roadbook worden verreden. De startlocatie za
 l waarschijnlijk McDonalds Assen zijn en de rit zal ons over de mooie onve
 rharde Drenthse paden leiden. Verdere informatie volgt via de website en h
 et forum. https://transalpclub.nl/activiteiten/activiteiten-historie/evene
 ment/158-drenthe-allroad
DTSTART:20210911T080000Z
DTEND:20210911T150000Z
LOCATION:Drenthe (7731 Ommen\, Netherlands)
SUMMARY:Drenthe Allroad
URL:https://transalpclub.nl/activiteiten/activiteiten-historie/evenement/15
 8-drenthe-allroad
END:VEVENT
END:VCALENDAR
