BEGIN:VCALENDAR
VERSION:2.0
PRODID:-//https://transalpclub.nl///NONSGML kigkonsult.se iCalcreator 2.10.15//
METHOD:PUBLISH
BEGIN:VEVENT
UID:20260419T212030CEST-4575On79Uv@https://transalpclub.nl/
DTSTAMP:20260419T192030Z
DESCRIPTION:Datum:                         1-2-3 Oktpber 2021\nNaam organis
 ator:      Bart Haarhuis\, Rene Lankheet\nEmail:                          
 barthaarhuis67@gmail.com rene@jamurela.eu\nVerzamelen:                1 ok
 tober\nStarttijd:                     vanaf 15:00 uur\n \nNaam startlocati
 e:      Camping de notenwei\nAdres startlocatie:      Zeendamsweg\nPostcod
 e en plaats:    7468 RX Enter\n  \n \n \nLengte toertocht:       In totaal
  500km!\nEindlocatie toertocht: zelfde als startlocatie\n                 
                   \nSoort route:                road en offroad\nAlternati
 eve route:     \n \n \nEen lang weekend vol (OFF)ROAD!   De TCN500 2021 be
 looft een fantastisch (ALL) ROAD weekend te worden.  Onze thuisbasis zal C
 amping de Notenwei in Enter zijn\, van daaruit vertrekken de (all)road rit
 ten en na een dag hard werken op onze buffels\, kunnen wij hier weer aansc
 huiven voor het verzorgen van de inwendige mens.  De onverharde ritten zij
 n samengesteld door Bart Haarhuis die ieder zandpad in de omgeving kent\, 
 en ons enkele van de mooiste plekjes in de omgeving laat zien.  Ook aan de
  asfalt rijders is gedacht: Rene Lankheet verzorgt de verharde route’s en 
 zal ons ook zeker over mooie wegen leiden.  We hebben op de camping de bes
 chikking over een ruime veranda en een binnen verblijf waar ook het sanita
 ir is gehuisvest\, echter zijn de daar genuttigde drankjes voor eigen reke
 ning. Zelf wat meenemen en bij de tent nuttigen staat uiteraard vrij.\n \n
 Het programma ziet er als volgt uit.\n \nVrijdag 1 oktober van 16.00 verza
 melen\nTentje opzetten. En aansluitend bbqen. ook als je later komt is er 
 mogelijk om te eten.\n \nZaterdag.s ontbijten. En gereed maken voor de dik
 ke dag offroad. &gt\;200 km.\nOf een mooie verharde route.\nS.avonds is er
  een uitgebreid stamppot buffet.\n \nZondag.s Ontbijten. En weer heerlijk 
 rijden. \n \nDe prijs voor het gehele Tcn 500 weekend is 65 euro.\nMeld je
  aan en maak dit bedrag over op NL77RABO0335998909 ten name van Transalpcl
 ub Nederland o.v.v. TCN500.\n\n2x overnachting\n2x ontbijt\n1x BBQ\n1x sta
 mpot buffet\n\n \nOpgeven kan nog tot en met donderdag 23 September. https
 ://transalpclub.nl/activiteiten/activiteiten-historie/evenement/159-tcn-50
 0-allroad-road-2021
DTSTART:20211001T140000Z
DTEND:20211003T090000Z
LOCATION:Twente ()
SUMMARY:TCN 500 Allroad + Road 2021
URL:https://transalpclub.nl/activiteiten/activiteiten-historie/evenement/15
 9-tcn-500-allroad-road-2021
END:VEVENT
END:VCALENDAR
