BEGIN:VCALENDAR
VERSION:2.0
PRODID:-//https://transalpclub.nl///NONSGML kigkonsult.se iCalcreator 2.10.15//
METHOD:PUBLISH
BEGIN:VEVENT
UID:20260419T212104CEST-25631vvg6p@https://transalpclub.nl/
DTSTAMP:20260419T192104Z
DESCRIPTION: https://transalpclub.nl/activiteiten/activiteiten-historie/eve
 nement/160-toer-activiteiten-commissie-vergadering
DTSTART:20211009T110000Z
DTEND:20211009T150000Z
LOCATION:Online? ()
SUMMARY:Toer & Activiteiten Commissie Vergadering
URL:https://transalpclub.nl/activiteiten/activiteiten-historie/evenement/16
 0-toer-activiteiten-commissie-vergadering
END:VEVENT
END:VCALENDAR
