BEGIN:VCALENDAR
VERSION:2.0
PRODID:-//https://transalpclub.nl///NONSGML kigkonsult.se iCalcreator 2.10.15//
METHOD:PUBLISH
BEGIN:VEVENT
UID:20260420T024255CEST-97237HzLrk@https://transalpclub.nl/
DTSTAMP:20260420T004255Z
DESCRIPTION:SNERTRIT 2021 – We gaan op oorlogspad!\nStart:    McDonalds De 
 Wieken Adres:   Wiekenweg 6\, 3815 KL Amersfoort  Finish: Hotel De Roskam 
 Adres: Hessenweg 212\, 3791 PN Achterveld Voor beide locaties geldt\, wil 
 je binnen zitten\, neem dan je QR-code mee.  Organisator/contactpersoon: J
 an van den Berg \n \nRoute algemeen\n\nNabij Veenendaal (dwz je bent er da
 n al aardig doorheen) sla je van de doorgaande weg rechtsaf de N416 op. Na
  ca 200 meter\, in een (mooie!) flauwe bocht naar rechts gaat de route lin
 ksaf. Aan het begin van die weg staat een bord dat een doodlopende weg is.
  Dat is echter niet het geval. Je kunt kort voor de bussluis – legaal ! – 
 rechtsaf via het parkeerterrein naar de andere kant van de bussluis rijden
 . Bij het voorrijden heb ik dat nog getest en dat werkt prima.\nAls je van
  de track een route maakt dan zou het kunnen zijn dat je navi je er omheen
  leidt. Wil je voorrijder anders rijden\, volg hem dan (anders is het tens
 lotte ook geen voorrijder …..). Hij/zij kan dan eenvoudig de rondweg volge
 n: die gaat na de rotonde over op de N233 die kruist de route even later o
 ok weer. Jullie missen dan wel een leuk stukje.\nEr zit soms een ‘lulletje
 ’ (los stukje route) in de route. Dat is niet fout (dat wel) maar het bren
 gt je bij iets wat ik je toch even wilde laten zien. Stoppen en een foto m
 aken mag maar het hoeft niet.\nAls het mooi weer is (zoals afgelopen zonda
 g toen ik de rit nog een keer heb gereden\, dan is het druk op de Posbank.
  Druk met auto’s\, fietsers en motoren. Erger je er niet aan maar geniet v
 an al het moois om je heen. Die vijf minuten dat je later bent maakt voor 
 de soep niet uit: hij wordt toch nooit zo heet gegeten.\n\n \nRoute info H
 et oorlogspad begint bij McDonalds in Amersfoort. In de oorlog was de Mc e
 r nog niet maar het is zo handig verzamelen\, vandaar en ze schenken er ko
 ffie!. De route vertrekt richting Leusden. De eerste (korte) stop is bij d
 e Asschatterkeerkade. Dit verdedigingswerk is opgericht met het idee dat d
 e vijand niet kon zwemmen cq een hekel aan water had: achter de dijken wer
 d het weiland onder water gezet. Op dit stukje dijk\, jullie hoeven daar n
 iet heen te lopen hoor\, is ook een fusillade-plaats waar jaarlijks op 4 m
 ei de gevallenen worden herdacht. We vervolgen de Asschatterweg en kruisen
  weer de dijk.\nHet oorlogspad dat wij volgen heeft met de Tweede Wereldoo
 rlog te maken. Mijn doel was om tot in Nijmegen te geraken maar dat bleek 
 een brug te ver. Het eerstvolgende waypoint is in Wageningen. Op de stoep 
 van hotel ‘De Wereld’ wordt jaarlijks ons bevrijdingsvuur aangestoken. Dat
  hotel staat bekend als de plek waar het Duitse leger haar capitulatie tek
 ende en is als zodanig als belangrijk historisch feit de geschiedenisboeke
 n ingegaan. De inwoners van Achterveld zijn het daar niet helemaal c.q. he
 lemaal niet mee eens. Daarover later meer.\nWe verlaten Wageningen\, via W
 ageningen Hoog (vergaap je rustig aan al het moois dat daar is gebouwd maa
 r rij wel een beetje door\, anders wordt de soep koud) en Bennekom om in E
 de de N224 op te rijden. Het is niet echt een TCN-waardig stukje weg maar 
 het brengt ons wel op de Edese heide (ook bekend als de Ginkelse Heide) wa
 ar heel veel parachutisten zijn geland om het offensief bij Arnhem/Nijmege
 n te bemannen (ik weet niet of er toen ook al vrouwen mee-sprongen\, maar 
 dat terzijde). Sla even kort af om bij het monument stil te staan bij al h
 et leed dat daar destijds is geleden. Niet te lang want dan koelt je motor
  af!\nWe verlaten de N224 richting Wolfheze omdat ik onder Oosterbeek jull
 ie het huis van Kate ter Horst wilde laten zien. Kate heeft heel veel gewo
 nden in de 2e wereldoorlog verzorgt. Van het huis is een deel te zien\, de
  rest gaat schuil achter de bomen. Ik heb een waypoint bijgevoegd maar als
  je enkel de track gebruikt (en zin hebt in soep) dan rijd je er zo maar a
 an voorbij.\nIn Arnhem had ik een kleine uitdaging: de John Frostbrug moes
 t natuurlijk in de route. Eerst dacht ik\, ik neem een brug ervoor maar ei
 genlijk is het veel leuker om er heen en weer overheen te rijden\, vandaar
  weer een lulletje in de route. De bruggen in Nijmegen heb ik gelaten voor
  wat ze zijn. Wellicht komen die een volgende keer nog aan bod.\nVanuit Ar
 nhem rijden we via Velp de Posbank op. We mogen er de 31e nog op maar ik w
 eet niet hoelang dat nog blijft. De snertpannen staan op de 2e parkeerplaa
 ts aan je rechterhand en die heet De Driesprong. Is die vol dan pakken we 
 er één eerder en anders één verder: even goed kijken dus. Je bent nu inmid
 dels ruim 2 uur onderweg =&gt\; als je vlot rijdt dan zou je om 11 uur kun
 nen vertrekken\, wil je meer zien onderweg\, schroom dan niet om al om 10.
 30 uur de bougievonken richting de samengeperste lucht-brandstof te sturen
 .\n \nNa de snert rijden we verder de Posbank op. Bij de volgende splitsin
 g mag je alleen maar linksaf. Daar is ook een gelegenheid om van het toile
 t gebruik te maken (binnen\, dus QR-code meenemen). De route deel 2 begint
  na de driesprong bij het paviljoen: even een klein stukje rijden zonder n
 avi dus.\nDe route volgt de Posbank naar beneden tot in De Steeg. Daar sla
 an we rechtsaf om vervolgens bij de rotonde de Posbank weer op te draaien.
  Uiteindelijk kom je dan weer langs het paviljoen op de Posbank en kom je 
 ook weer langs de snert: als het goed is dan is het laatste restje inmidde
 ls wel uit de pan geschraapt maar dat mag je zelf ook even komen controler
 en. Vind je het lusje niet leuk (genoeg) dan kun je natuurlijk ook een kwa
 rtier langer blijven klessebessen en dan weer aanhaken als de rest weer la
 ngs komt. Let wel even op dat de route deel 1 en de route deel 2 hier een 
 stukje over dezelfde weg lopen: ik raad je aan om niet beide tracks tegeli
 jk in je scherm aan te zetten.\nAls de oorlog een beetje is weggezakt dan 
 begrijp ik dat maar we gaan ons opmaken voor het slotoffensief.\nEerst kun
 nen we nog even van het Nationaal Park de Veluwezoom genieten. De route ga
 at er niet doorheen\, er lopen mij daar teveel wolven. Over de Koningsweg 
 richting Otterlo zie je meerdere militaire complexen. Die zijn er natuurli
 jk niet voor de oorlog\, maar juist om hem te voorkomen. Maar je moet natu
 urlijk wel oefenen en daar is veel ruimte voor nodig. Wij mogen er met onz
 e motoren vast niet doorheen.\nVia allerlei mooie dorpen rijden we richtin
 g Achterveld\, het doel van deze tocht. Wat was er in 1945 in dat mooie do
 rp aan de hand. Het laatste lusje in de route was nodig om jullie langs De
  Moespot te leiden. Daar had ik de route eigenlijk willen laten starten\, 
 maar een club schilders heeft de ruimte tijdelijk bezet. Tijdens de bezett
 ing in 1945 heeft in dat schoolgebouw de voedselconferentie plaatsgevonden
 . Met die conferentie zijn behalve het voedsel ook de overeenkomsten die t
 ot de capitulatie hebben geleid\, voorgekookt. Zonder Achterveld was Wagen
 ingen dus nooit op de kaart gekomen. Ik zal niet beweren dat wij dan nu al
 lemaal BMW hadden gereden maar dat had zomaar gekund.\nIn De Moespot is oo
 k een foto-expositie over de voedselconferentie en dat is wellicht een leu
 k item om te bezoeken als je binnenkort in onze mooie Gelderse Vallei op v
 akantie bent.\nFijne rit!\n  https://transalpclub.nl/activiteiten/activite
 iten-historie/evenement/161-snertrit
DTSTART:20211031T090000Z
DTEND:20211031T160000Z
LOCATION:Gelderse Vallei ()
SUMMARY:Snertrit
URL:https://transalpclub.nl/activiteiten/activiteiten-historie/evenement/16
 1-snertrit
END:VEVENT
END:VCALENDAR
