BEGIN:VCALENDAR
VERSION:2.0
PRODID:-//https://transalpclub.nl///NONSGML kigkonsult.se iCalcreator 2.10.15//
METHOD:PUBLISH
BEGIN:VEVENT
UID:20260419T211419CEST-2668KRDv2v@https://transalpclub.nl/
DTSTAMP:20260419T191419Z
DESCRIPTION: https://transalpclub.nl/activiteiten/activiteiten-historie/eve
 nement/162-alv-2022
DTSTART:20220115T180000Z
DTEND:20220115T210000Z
LOCATION:Online? ()
SUMMARY:ALV 2022
URL:https://transalpclub.nl/activiteiten/activiteiten-historie/evenement/16
 2-alv-2022
END:VEVENT
END:VCALENDAR
