BEGIN:VCALENDAR
VERSION:2.0
PRODID:-//https://transalpclub.nl///NONSGML kigkonsult.se iCalcreator 2.10.15//
METHOD:PUBLISH
BEGIN:VEVENT
UID:20260419T212100CEST-5679UCUvL4@https://transalpclub.nl/
DTSTAMP:20260419T192100Z
DESCRIPTION:Helaas kan de Motorbeurs niet doorgaan\, graag zien we je op ee
 n van onze ritten.Als niet-lid kun je enkele keren mee rijden voordat je m
 oet besluiten om lid te worden.Wil je een keer mee? Stuur dan een mail naa
 r toercommissie@transalpclub.nl. Kijk hier op de website wanneer de volgen
 de rit is.\nWe hopen je in ieder geval op de Motorbeurs van 2023 te verwel
 komen. https://transalpclub.nl/activiteiten/activiteiten-historie/evenemen
 t/163-tcn-op-de-motorbeurs-afgelast
DTSTART:20220223T230000Z
DTEND:20220227T190000Z
LOCATION:Jaarbeursplein\, Utrecht (Jaarbeursplein\, 3521 Utrecht\, Netherla
 nds)
SUMMARY:TCN op de Motorbeurs - AFGELAST
URL:https://transalpclub.nl/activiteiten/activiteiten-historie/evenement/16
 3-tcn-op-de-motorbeurs-afgelast
END:VEVENT
END:VCALENDAR
