BEGIN:VCALENDAR
VERSION:2.0
PRODID:-//https://transalpclub.nl///NONSGML kigkonsult.se iCalcreator 2.10.15//
METHOD:PUBLISH
BEGIN:VEVENT
UID:20260419T211723CEST-0911bVDcHf@https://transalpclub.nl/
DTSTAMP:20260419T191723Z
DESCRIPTION:Vanuit de technische commissie plannen we elk jaar een aantal i
 nspectiedagen aan het begin van het motor seizoen zodat je jouw motor gron
 dig kunt laten inspecteren. Zo krijg je aan het begin van het seizoen al e
 en goed inzicht in de huidige staat van je motor. En met dat inzicht kun j
 e vervolgens eventuele pijnpunten aanpakken zodat je samen met je motor ti
 p-top het nieuwe motor seizoen in kan gaan.\nDeelname aan deze inspectieda
 gen is gratis\, maar je moet je wel inschrijven\, zodat degene die de insp
 ecties uitvoeren je kunnen inplannen zodat je niet te lang op je beurt hoe
 ft te wachten en iedereen voldoende aandacht kan krijgen.\n \nWat kan je v
 erwachten?\nNadat de inschrijvingen verwerkt zijn wordt er een planning op
 gesteld en wordt je geïnformeerd voor welk dag-deel jij aan de beurt bent 
 voor de inspectie.\nTijdens de inspectie kan je meekijken hoe de inspectie
  verloopt en hoe jouw motor op diverse cruciale punten wordt geïnspecteerd
 . De inspectie zelf duurt ca. 45 minuten\, waarna je samen met de ‘inspect
 eur’ alle constateringen nog eens doorloopt en je tekst en uitleg krijgt b
 ij de bevindingen.Uiteindelijk krijg je een formulier waarop de aan te pak
 ken gebreken zijn opgesomd en kan je zelf bepalen wat je hiermee gaat doen
 . De keuze blijft hierbij altijd aan jou\, om de gebreken zelf aan te pakk
 en\, naar een dealer te gaan\, of (en dat horen wij natuurlijk het liefst)
  bij een van ons langs komt. Je kan er dan voor kiezen om ons of in samenw
 erking de punten aan te pakken. Zo kan je direct ook weer bijleren over de
  techniek van je eigen motor.\nNaast het feit dat het altijd heel gezellig
  is en je samen met mede clubgenoten onder het genot van een hapje en dran
 kje alvast het aankomende seizoen door neemt\, is het ook nog eens een lee
 rzame dag.\nAfhankelijk van de hoeveelheid deelnemers kan het zijn dat we 
 ook nog een korte workshop over een technisch onderwerp plannen.\n \nDe lo
 caties zijn verspreid over het land en vinden dit jaar volgens onderstaand
  schema plaats:\n\nZondag 6 maart – Alphen aan den Rijn\nZaterdag 12 maart
  - Elburg\nZondag 27 maart - Sprundel\n\n \nTot één van deze inspectie dag
 en en alvast een veilig motorseizoen gewenst namens de technische commissi
 e\,\n \nAd Mies\, Hans Schaap &amp\; Rob Geelen. https://transalpclub.nl/a
 ctiviteiten/activiteiten-historie/evenement/166-inspectiedag-sprundel
DTSTART:20220327T080000Z
DTEND:20220327T140000Z
LOCATION:MSD Motorbandenservice\, Sprundel (Lange Hei 3\, 4714 RE Sprundel\
 , Netherlands)
SUMMARY:Inspectiedag Sprundel
URL:https://transalpclub.nl/activiteiten/activiteiten-historie/evenement/16
 6-inspectiedag-sprundel
END:VEVENT
END:VCALENDAR
