BEGIN:VCALENDAR
VERSION:2.0
PRODID:-//https://transalpclub.nl///NONSGML kigkonsult.se iCalcreator 2.10.15//
METHOD:PUBLISH
BEGIN:VEVENT
UID:20260419T212053CEST-7801bZsgXW@https://transalpclub.nl/
DTSTAMP:20260419T192053Z
DESCRIPTION: \nStart en eindpunt :\n            Motorbandenzaak\n          
   Eikenlaan 259e\n            2404BP Alphen aan den Rijn.\n \nLunchplek : 
 \nHelaas door omstandigheden heeft Rob geen lunch locatie kunnen bespreken
 .\nIn de route zijn een paar opties aangegeven waarbij de eerste optie mis
 schien wat vroeg komt (Lopik)Een stukje verder in de Vlist is ook een mooi
 e optie\, maar meeste kans zit in Haastrecht.Hiervoor bij de rotonde in Ha
 astrecht rechtdoor. Daar zijn een aantal gelegenheden bij elkaar.\nRoute :
  ca. 140km\n \nBeschrijving :\nNa een korte doorsteek door Alphen rijden w
 e langs een van de grootste container overslag terminals het groene hart i
 n. Via een aantal binnendoor wegen parallel aan N11 en A12 komen we vervol
 gens een klein stukje langs de Oude Rijn om door te steken naar Oudewater 
 om van daaruit slingerend naar Ijsselstein te rijden. Daar rijden we vlak 
 langs de zendtoren weer west waards richting Schoonhoven van waaruit we vi
 a de Vlist richting Gouda slingeren.\nWe volgen daarna de Ijssel aan de zu
 id kant door tot in Capelle van waaruit we oversteken en de noord kant vol
 gen. Helaas is hier een klein stuk tot medio mei afgesloten\, maar met een
  kleine omweg komen we weer op de dijk.\nVerder door Moordrecht (en langs 
 waypoint) rijden we via Moerkapelle en Hazerswoude dorp weer terug naar Al
 phen.\n  https://transalpclub.nl/activiteiten/activiteiten-historie/evenem
 ent/167-openingsrit-alphen-aan-de-rijn
DTSTART:20220320T090000Z
DTEND:20220320T150000Z
LOCATION:Alphen a/d Rijn (Van Foreestlaan\, 2404 Alphen aan Den Rijn\, Neth
 erlands)
SUMMARY:Openingsrit Alphen aan de Rijn
URL:https://transalpclub.nl/activiteiten/activiteiten-historie/evenement/16
 7-openingsrit-alphen-aan-de-rijn
END:VEVENT
END:VCALENDAR
