BEGIN:VCALENDAR
VERSION:2.0
PRODID:-//https://transalpclub.nl///NONSGML kigkonsult.se iCalcreator 2.10.15//
METHOD:PUBLISH
BEGIN:VEVENT
UID:20260419T211744CEST-2299DlNufc@https://transalpclub.nl/
DTSTAMP:20260419T191744Z
DESCRIPTION:Naam rit: Veluwe allroad 2021 (Paasrit)\n \nDatum:             
             Maandag 18 April (2e Paasdag)\nNaam organisator:      Martin W
 edekind\n \nVerzamelen:                Ermelo\nStarttijd:                 
     11:00u (Allroadrit starten vanaf 10:30 uur)\nNaam startlocatie:      M
 c Donald’s Ermelo (Strand Horst)\nAdres startlocatie:      Palmbosweg 22\n
 Postcode en plaats:    3853 LB Ermelo\nGoogle:                      \nTele
 foon startlocatie: 0341-554888\nCoördinaten:              \n \nLunch locat
 ie:             De Tolboom Pannenkoekenboerderij &amp\; Eeterij (https://d
 etolboom.com/)\nAdres lunch locatie:    Hoevelakenseweg 89 3784 WG Terschu
 ur\n \nLengte toertocht:        Ca. 150 km\nEindlocatie toertocht: Ermelo 
 (Strand Horst)\n                                   \nSoort route:         
        Allroad (light)\nAlternatieve route:      Verharde route\n \nToelic
 hting:\nVoor 2e Paasdag staat een leuke allroad route op het menu die star
 t en eindigt in de omgeving van Strand Horst\, Ermelo. De de route is grot
 endeels hetzelfde als die van vorig\, maar we rijden de route nu tegengest
 eld met een paar wijzigingen in de route. Dit jaar hebben we ook een ander
 e (gezelliger) lunchlocatie besproken.\nUitgangspunt is dat de allroad rit
  door iedereen\, ook met weinig tot geen ervaring\, gereden kan worden.\nA
 fhankelijk van de weersomstandigheden kunnen er wat lastige secties in zit
 ten\, maar deze zijn meestal niet langer dan een paar honderd meter.\nVoor
  degenen die liever niet allroad willen rijden\, is er een mooie alternati
 eve route over de Veluwe gemaakt\, die een wat grotere lus maakt. Deze is 
 geheel verhard.\n \n \nStart en einde rit:\nMc Donald’s Ermelo (Strand Hor
 st) Palmbosweg 22 3853 LB Ermelo\nWe delen koffiebonnen uit\, zodat iedere
  deelnemer een gratis kop koffie kan halen.\nLunchlocatie: De Tolboom Pann
 enkoekenboerderij &amp\; Eeterij (https://detolboom.com/) Hoevelakenseweg 
 89 3784 WG Terschuur\nHier zal een koffietafel met belegde broodjes\, krok
 et en koffie\, thee of melk.klaar staan. Kosten €12\,50 per persoon. Onze 
 Penningmeester is zo vriendelijk om de lunch deels te sponsoren\, zodat he
 t bedrag niet hoger uitvalt.\n \nHoud de actuele Corona maatregelen in de 
 gaten\, neem voor de zekerheid een mondkapje mee!\n \nhttps://transalpclub
 .nl/forum/act-toertochten https://transalpclub.nl/activiteiten/activiteite
 n-historie/evenement/169-paasrit-allroad-light
DTSTART:20220418T080000Z
DTEND:20220418T140000Z
LOCATION:Veluwe ()
SUMMARY:Paasrit + Allroad Light
URL:https://transalpclub.nl/activiteiten/activiteiten-historie/evenement/16
 9-paasrit-allroad-light
END:VEVENT
END:VCALENDAR
