BEGIN:VCALENDAR
VERSION:2.0
PRODID:-//https://transalpclub.nl///NONSGML kigkonsult.se iCalcreator 2.10.15//
METHOD:PUBLISH
BEGIN:VEVENT
UID:20260419T212702CEST-3365NsvxHU@https://transalpclub.nl/
DTSTAMP:20260419T192702Z
DESCRIPTION:Naam rit: Noord-Holland rit 2022\n \nDatum:                    
      08-05-2022\nNaam organisator:      Eric Goes\n \nVerzamelen:         
        10.00 uur\nStarttijd:                     11.00 uur\n \nNaam startl
 ocatie:      Trainingscentrum Vakwijs B.V. (achterzijde gebouw)\nAdres sta
 rtlocatie:      Moezelhavenweg 8\nPostcode en plaats:    1043AM Amsterdam 
 (West)\nGoogle:                       https://goo.gl/maps/ozDRrd7yAh9ezU7Z
 8        \nTelefoon startlocatie: nvt\nCoördinaten:               nvt     
              \nNaam lunchlocatie:     Schagen\nPlus activiteit:           
  Ontvangst met koffie en versnapering\nAdres Plus activiteit:  nvt\nLengte
  toertocht:        circa 160 km\nEindlocatie toertocht: Burger King Leeghw
 aterweg 3\, 1456 NB Wijdewormer              \nSoort route:               
  Road\nAlternatieve route:      nvt\nToelichting route:                  
 \nDe route voert ons door het Westelijk havengebied van Amsterdam. We volg
 en het Noordzeekanaal richting Ijmuiden. Onderweg pakken we een heuse berg
 top mee. Helaas is de openstelling van de nieuwe zeesluizen voor gemotoris
 eerd verkeer wederom uitgesteld. We zullen dus via de tunnel het kanaal kr
 uisen. Vervolgens volgen we de Noord Hollandse kust. Als het een beetje me
 ezit staan de bollenvelden er nog mooi bij. De lunch genieten we op het ho
 recaplein in schagen. Na de lunch zakken we al kronkelend weer af naar het
  zuiden. Het eindpunt is in Wijdewormer. Napraten onder het genot van bakk
 ie leut met een burger.\n \nToelichting lunch:       \nIn verband met Moed
 erdag is het erg lastig om een locatie te vinden om met zijn allen de lunc
 h te genieten. Op het horecaplein in Schagen zijn echter diverse gelegenhe
 den om in kleine groepjes te eten. Dit zul je zelf even moeten bekijken.\n
   https://transalpclub.nl/activiteiten/activiteiten-historie/evenement/170
 -noord-hollandrit
DTSTART:20220508T080000Z
DTEND:20220508T140000Z
LOCATION:Noord-Holland (Alkmaar\, Netherlands)
SUMMARY:Noord-Hollandrit
URL:https://transalpclub.nl/activiteiten/activiteiten-historie/evenement/17
 0-noord-hollandrit
END:VEVENT
END:VCALENDAR
