BEGIN:VCALENDAR
VERSION:2.0
PRODID:-//https://transalpclub.nl///NONSGML kigkonsult.se iCalcreator 2.10.15//
METHOD:PUBLISH
BEGIN:VEVENT
UID:20260419T211557CEST-7488ZlmgSe@https://transalpclub.nl/
DTSTAMP:20260419T191557Z
DESCRIPTION:Per activiteit kijken we of deze door kan gaan met de dan gelde
 nde COVID-19 maatregelen\, hopelijk kunnen we dit jaar meer activiteiten l
 aten door gaan. https://transalpclub.nl/activiteiten/activiteiten-historie
 /evenement/171-ladies-weekend
DTSTART:20220513T170000Z
DTEND:20220515T140000Z
LOCATION:Rekken ()
SUMMARY:Ladies Weekend
URL:https://transalpclub.nl/activiteiten/activiteiten-historie/evenement/17
 1-ladies-weekend
END:VEVENT
END:VCALENDAR
