BEGIN:VCALENDAR
VERSION:2.0
PRODID:-//https://transalpclub.nl///NONSGML kigkonsult.se iCalcreator 2.10.15//
METHOD:PUBLISH
BEGIN:VEVENT
UID:20260419T211903CEST-5313cU0M4X@https://transalpclub.nl/
DTSTAMP:20260419T191903Z
DESCRIPTION:Datum: 12-06-2022Naam organisator: Radboud PlaizierVerzamelen: 
 10:00 uurStarttijd: 11:00 uurNaam startlocatie: McDonaldsAdres startlocati
 e: Transveer 1Postcode en plaats: 8531 DM LemmerTelefoon startlocatie: 051
 4534494Coördinaten: Tekst hierLunch: tuin slotplaatsAdres Lunch: Foarwurke
 r Wei 3\, 9243 JZ BakkeveenLengte toertocht: 160 kmEindlocatie toertocht: 
 het “ Hof vd koning “Prinsenweg 1 8443 DN HeerenveenSoort route: AllroadAl
 ternatieve route: Road/gravel semi verhardToelichting:De Frieslandrit 2022
 Er is nog zoveel Friesland om van te genieten!Afgelopen jaar was het Zuid-
  West\, nu staat Zuid- Oost op de agenda. We starten weer in Lemmer bij de
 mc Donalds onder aan de afslag A6 en gaan dan niet rechts maar linksaf de 
 Friese weiden in.Eerst onderlangs de provinciegrens\, randje Friesland bin
 nendoor langs mooie paden en slaperdijken\, richting Wolvega.Via de slinge
 rende weggetjes tussen weilanden door doemen in de verte de ‘Friese Wouden
 ’ op.Schuin omhoog via dorpen met moeilijke namen richting Appelscha\, hie
 rbij pikken we een ieniemienie stukje Drenthe mee. Leuk om te weten is dat
  we ook Egypte\, Moscow\, Frankrijk\, Canada\, Luxemburg en klein Groninge
 n aan doen! Een Buitenlandrit kun je wel zeggen\, maar dan in Friesland.Na
  ongeveer 100 km genieten komen we aan in Bakkeveen. Bij De Slotplaats ver
 wachten ze ons in de tuin voor soep en broodjes.Voldaan verder\, omdat we 
 nu bijna in Groningen zitten buigen we snel weer af richting het westen.Hi
 er en daar is de route ook onverhard\; type landbouwweg\, gravel en zand. 
 Dit is goed aangereden dus noppenbanden zijn niet nodig. Er is 1 stukje wa
 ar het mul is\, daar is een alternatieve route ‘verhard’ voor aangegeven.W
 e naderen Beetsterzwaag\, hier nemen we een stukje ‘Achterwei’\, met gepas
 te snelheid over de smalle paden langs een eeuwenoud kerkje binnendoor ric
 hting ‘Lauswolt’. Hier vergadert ons kabinet regelmatig.Tussen bos en heid
 e verder rijden we door het coulissen landschap\; met boomwallen omringde 
 weilanden.Het landschap wordt alweer wat weidser\, gras\, koeien\, horizon
 !Tegen het einde van de rit is er nog een 5 km zandweg te bedwingen\, deze
  kan mul zijn. Hier kun je ook lekker gas geven! Er is een alternatieve ro
 ute voor diegene die dat wenst.We slingeren verder.Nog een stukje gras pad
  en langs de trekvaart via Bontebok naar Heerenveen.Bij restaurant ‘Hof va
 n de Koning’ eindigt dit avontuur met een drankje op het zonnige terras. h
 ttps://transalpclub.nl/activiteiten/activiteiten-historie/evenement/172-fr
 iesland-rit
DTSTART:20220612T080000Z
DTEND:20220612T140000Z
LOCATION:Lemmer ()
SUMMARY:Friesland Rit
URL:https://transalpclub.nl/activiteiten/activiteiten-historie/evenement/17
 2-friesland-rit
END:VEVENT
END:VCALENDAR
