BEGIN:VCALENDAR
VERSION:2.0
PRODID:-//https://transalpclub.nl///NONSGML kigkonsult.se iCalcreator 2.10.15//
METHOD:PUBLISH
BEGIN:VEVENT
UID:20260419T211231CEST-3763pegVvR@https://transalpclub.nl/
DTSTAMP:20260419T191231Z
DESCRIPTION:NTT 2022 Gaat door\n \nBeste medetransalpers\, het NTT 2022 gaa
 t door. Na 2 jaar in de greep van Covid\, kan nu gelukkig het festijn wel 
 doorgang vinden.  Dit jaar van donderdag 23 juni tot en met zondag 26 juni
 .\nHet NTT wordt dit jaar gehouden in het hoge noorden\, een welbekend geh
 oorde kreet is:\nEr gaat niets boven Groningen.\nDit jaar zijn we te gast 
 bij Albert Jan Koers en Rina Drost in de Blauwestadhoeve in Midwolda. Dit 
 biedt de gelegenheid om zowel buiten in een tent\, met een caravan of camp
 er of binnen in de groepsaccomodatie of nog luxer in heuse Bed&amp\;Breakf
 ast kamers.\nIn de Bed&amp\;Breakfast zijn 1 een-persoonskamer\, 2  twee-p
 ersoonskamers\, 2 drie-persoonskamers en 2 vier-persoonskamers.\nIn de gro
 epsaccommodatie zijn blokhutten beschikbaar van 4 tot 7 personen per hut\n
 Verder is er ruime gelegenheid voor diegene die met eigen tent\, camper of
  caravan wil komen om op de camping te overnachten.\n\nDe kosten voor over
 nachting in de B&amp\;B zijn:  € 150.- per persoon incl. eten en drinken.
 \nOvernachten in de groepsaccommodatie:       € 130.- per persoon incl. et
 en en drinken.\nEigen tent:                                               
   € 120.- per persoon incl. eten en drinken.\nCamper of caravan:          
                            € 100.- per camper/caravan.  plus € 70   \,-  p
 er persoon voor eten en drinken.\nDaggast                                 
                     € 40.- per persoon voor lunch en diner.               
                                                                           
                                                                           
                                                                           
                                                                           
                                                                           
                              \n\nBed &amp\; breakfast kamers zijn vergeven
 .                                                                         
                                                            \nIn de Bed&amp
 \; Breakfast zijn in totaal 19 slaapplaatsen\, deze zijn inclusief beddeng
 oed.\nIn de groepsaccommodatie in totaal 40 slaapplaatsen\, moet men zelf 
 beddengoed meenemen.  De gasten die met een eigen tent eten natuurlijk ook
  mee in de gezamenlijke ruimte voor het ontbijt.                          
                                \n                                         
                               \nHet eten is gedurende het weekend inclusie
 f\, drank(jes) een limiet. Iedere deelnemer krijgt een voldoende ruim aant
 al muntjes\, maar voor de grote dorst vragen we een kleine bijdrage\, wat 
 ter plekke betaald kan worden.\nVoor mensen die alleen op vrijdag of zater
 dag kunnen en gebruik willen maken van de lunch en avondeten vragen we een
  bijdrage van € 40.- per persoon.\nVoor diegene die ook eens off road wil 
 proberen\, Albert Oosting wil op zaterdagmorgen bij voldoende deelnemers (
 minimaal 6 personen)een training geven\, en zaterdagmiddag onder begeleidi
 ng van Albert een off road rit rijden. De kosten hiervan zij € 50.- per pe
 rsoon.\n \nHet programma:\nDo 23 juni:  aankomst vanaf 15.00 uur\, bed opm
 aken\, tent opzetten. Bij kletsen\nVanaf 18.15  visje met friet eten bij `
 t Viskarretje (ook snacks voor diegene       die geen visje blieft)\nRond 
 20.00 uur\, openingswoord van de voorzitter en/of andere notabele. Verder 
 zal een oer-Groninger een stukje geschiedenis vertellen over het gebied. I
 ets wat gedurende het weekend weer terug zal komen.\nVr 24 juni :  Vanaf 8
 .00 tot 9.30 uur ontbijtbuffet in de gezamenlijke ontbijtruimte\nErgens na
  het ontbijt\, start routes. Er zijn verschillende routes uitgezet\, varië
 rend van kort tot lang. Ook voor  de off-road rijders zijn er routes besch
 ikbaar.\nRond 18.00 uur is er een pannenkoeken buffet.\nZa 25 juni:   Vana
 f 8.00 tot 9.30 uur ontbijtbuffet in de gezamenlijke ontbijtruimte. \nErge
 ns na het ontbijt\, start puzzeltocht\, In het verlengde van de   donderda
 gavond komen we iets meer te weten over de rijke historie van het Gronings
 e land.  Voor diegene die niet zo goed zijn in puzzelen\, gewoon één van d
 e routes rijden kan ook\, maar dan mis je wel de kans op de eeuwige roem!!
 !  Rond 18.00 uur start BBQ.\nVoor de avonden\, is er ruimte in de bar van
  Albert Jan\, met mooi weer is er ook gelegenheid voor een kampvuur. Mocht
  het weer overdag niet meezitten en mensen vroeg terug zijn van de ritten\
 , er is een grote Beach hal aanwezig waar verschillende spellen mogelijk z
 ijn zoals bijvoorbeeld van beachvolleybal tot touwtrekken…. \n \nZo 26 jun
 i:   Vanaf 8.00 uur zondags ontbijtbuffet in de gezamenlijke ontbijtruimte
 .\n                    Vanaf 10.00 Tijd om op te ruimen\, afscheid te neme
 n\, Albert Jan en Rina te bedanken voor hun gastvrijheid en einde van het 
 NTT 2022.\n \nOpgeven kan via het aanmeldformulier\, de invulling van de B
 ed&amp\;Breakfast en de groepsaccomodatie gaat op volgorde van aanmelding.
  Voor diegene die met eigen tent wil komen is er ruim voldoende plaats. De
  aanmelding is definitief als er betaald is.\n \nTot ziens in Midwolda\n 
 \nGroetjes van het orga team NTT 2022 https://transalpclub.nl/activiteiten
 /activiteiten-historie/evenement/173-ntt
DTSTART:20220623T140000Z
DTEND:20220626T140000Z
LOCATION:Blauwestadhoeve (Hoofdweg 156\, 9681 AL Midwolda)
SUMMARY:NTT
URL:https://transalpclub.nl/activiteiten/activiteiten-historie/evenement/17
 3-ntt
END:VEVENT
END:VCALENDAR
