BEGIN:VCALENDAR
VERSION:2.0
PRODID:-//https://transalpclub.nl///NONSGML kigkonsult.se iCalcreator 2.10.15//
METHOD:PUBLISH
BEGIN:VEVENT
UID:20260419T212935CEST-0388sgFrLA@https://transalpclub.nl/
DTSTAMP:20260419T192935Z
DESCRIPTION:We gaan naar de bajes!\nNou ja\, dat was het vroeger. Tegenwoor
 dig zit er onder andere een lunchroom (Buuls) in voormalig gevangeniscompl
 ex de Kruisberg en worden er maatschappelijke activiteiten georganiseerd. 
 Zo worden er op dinsdagen Oekraïense vluchtelingen opgevangen en het plaat
 selijke Alzheimercafé vind ook hier plaats. Buuls is opgezet vanuit Zorgbo
 erderij Slangenburg en deelnemers samen met vrijwilligers runnen de lunchr
 oom.\nDe Oostrit start in Doetinchem bij Buuls in voormalig gevangeniscomp
 lex de Kruisberg om vanaf daar een rondje door de Achterhoek te doen. Zo k
 omen we door Bronkhorst\, Barchem\, Borculo om te gaan lunchen in Groenlo.
  Vanaf daar passeren we Lichtenvoorde\, Aalten\, Ulft\, Zeddam en Didam om
  in Duiven te eindigen bij de Stammtisch van Oost.\n \nStart locatie: Buul
 s Lunchroom\, Klootsemastraat 1\, 7009 CE DoetinchemVerzamelen: vanaf 10:0
 0 uur\nStarttijd: 11:00 uur\nLunchplaats: GroenloIn Groenlo kun je lunchen
  bij Restaurant &amp\; Bakkerij Wissink of De Stadschpomp. Parkeer de moto
 r op de Gasthuisstraat en loop het laatste stukje naar de markt.\nEindloca
 tie: Cafe van Dorth\, Rijksweg 19\, 6921 AB Duiven\n \n \nMeer informatie 
 of wil je mee als potentieel lid? Mail pr@transalpclub.nl https://transalp
 club.nl/activiteiten/activiteiten-historie/evenement/174-oostrit
DTSTART:20220709T080000Z
DTEND:20220709T140000Z
LOCATION:Buuls Lunchroom (Klootsemastraat 1\, 7009 CE Doetinchem)
SUMMARY:Oostrit
URL:https://transalpclub.nl/activiteiten/activiteiten-historie/evenement/17
 4-oostrit
END:VEVENT
END:VCALENDAR
