BEGIN:VCALENDAR
VERSION:2.0
PRODID:-//https://transalpclub.nl///NONSGML kigkonsult.se iCalcreator 2.10.15//
METHOD:PUBLISH
BEGIN:VEVENT
UID:20260419T211756CEST-3166cjV8Bz@https://transalpclub.nl/
DTSTAMP:20260419T191756Z
DESCRIPTION:De gebroeders Mink hebben weer een mooie allroad route gemaakt\
 , zoals gebruikelijk geen GPS route maar met een roadbook.\n \nDe route st
 art in Spier\, bij http://www.boslounge.nl/\, op de Oude postweg 12.We ein
 digen in Norg.De route is 142 km lang\, de route volgt nog als de laatste 
 wijzigingen zijn doorgevoerd staat online.\nZoals gebruikelijk verzamelen 
 vanaf 10:00.\nEr wordt gestart rond 10:30.\n \nTot zaterdag! https://trans
 alpclub.nl/activiteiten/activiteiten-historie/evenement/175-drenthe-allroa
 d-road
DTSTART:20220910T080000Z
DTEND:20220910T140000Z
LOCATION:Centraal Drenthe ()
SUMMARY:Drenthe Allroad + Road
URL:https://transalpclub.nl/activiteiten/activiteiten-historie/evenement/17
 5-drenthe-allroad-road
END:VEVENT
END:VCALENDAR
