BEGIN:VCALENDAR
VERSION:2.0
PRODID:-//https://transalpclub.nl///NONSGML kigkonsult.se iCalcreator 2.10.15//
METHOD:PUBLISH
BEGIN:VEVENT
UID:20260419T211848CEST-4944u0eMvH@https://transalpclub.nl/
DTSTAMP:20260419T191848Z
DESCRIPTION:TCN Buitenlandweekend 2022 Waldbreitbach (D)\n VOL: Aanmelden v
 oor de reservelijst is mogelijk.\nVoor dit jaar staat het buitenlandweeken
 d in de agenda op vrijdag 16\, zaterdag 17 en zondag 18 september 2022.\nW
 e denken met “Hotel zur Post” een mooie locatie te hebben gevonden in Wald
 breitbach (Duitsland).\nWaldbreitbach is gelegen tussen Bonn en Koblenz\, 
 iets ten oosten van de Rijn in een regio die bekend staat als het Westerwa
 ld.\nRijplezier is hier gegarandeerd\, met keuze uit vele mooie (en bochti
 ge) routes\, zoals Moezel en Rijn\, de Lahn\, Sieg en Eifel.\nOp vrijdag z
 al een mooie aanrijdroute worden aangeboden van Zuid Limburg naar het hote
 l. Het verzamelpunt wordt later nog bepaald. Ook op zondag zal een mooie r
 oute voor de terugreis worden aangeboden.\n \nHet hotel is eind oktober do
 or ons bezocht en beschikt over 10 éénpersoonskamers en 25 tweepersoonskam
 ers.\nIn het hotel zal een zaal voor onze club gereserveerd worden\, waar 
 we kunnen eten en ‘s avonds gezellig bij elkaar kunnen zitten. Voor het av
 ondeten zal een driegangenmenu worden aangeboden met keuze uit verschillen
 de hoofdgangen. Het ontbijt in buffetvorm zal ook genoeg keuze hebben om d
 e dag goed te beginnen.\nDe motoren kunnen in de gedeeltelijk verdiepte pa
 rkeergarage worden gestald.\n \nJe kunt tevens gratis gebruik maken van de
  sauna en het stoombad.\nBekijk hier de promofilm.\nProgramma\nAankomst op
  vrijdag 16 september vanaf 14:30 uur.\n\n         2 Overnachtingen\n     
     2x avondeten (vrijdag en zaterdag)\n         2x ontbijt (zaterdag en z
 ondag)\n\nLunchen op zaterdag doen we ergens onderweg tijdens de toertocht
 .\nVertrek naar Nederland op zondag 18 september voor 11:00 uur.\n \nInfor
 matie\nStart inschrijving: Dinsdag 1 februari 2022 (vol=vol!).\n \nSchrijf
  je nu hier in!\n \nKosten:\nHalfpension in een éénpersoonskamer €160\,- v
 oor 2 overnachtingen.\nHalfpension in een tweepersoonskamer €130\,- per pe
 rsoon voor 2 overnachtingen.\n \nWil je wat extra dagen bijboeken\, bijvoo
 rbeeld donderdag en/of maandag\, dan kun je dit na bevestiging van je insc
 hrijving zelf regelen met het hotel.\n \nInfo hotel:\nHotel zur Post\nNeuw
 ieder Straße 44\n56588 Waldbreitbach\nTel. +49 2638 926-0\nhttps://www.hot
 elzurpost.de/\n \nOrganisatoren: Mariska van Dam en Martin Wedekind\n http
 s://transalpclub.nl/activiteiten/activiteiten-historie/evenement/176-buite
 nland-weekend-2022
DTSTART:20220916T160000Z
DTEND:20220918T140000Z
LOCATION:Hotel zur Post (Waldbreitbach)
SUMMARY:Buitenland weekend 2022
URL:https://transalpclub.nl/activiteiten/activiteiten-historie/evenement/17
 6-buitenland-weekend-2022
END:VEVENT
END:VCALENDAR
