BEGIN:VCALENDAR
VERSION:2.0
PRODID:-//https://transalpclub.nl///NONSGML kigkonsult.se iCalcreator 2.10.15//
METHOD:PUBLISH
BEGIN:VEVENT
UID:20260419T200249CEST-21439ShU1n@https://transalpclub.nl/
DTSTAMP:20260419T180249Z
DESCRIPTION:Datum: 30 september tot 2 oktober\nNaam  Bart Haarhuis\nTelefoo
 n: 0031652022182\nEmail: barthaarhuis67@gmail.com\nVerzamelen: Camping de 
 Notenwei Enter\nStarttijd: vrijdag 30 september vanaf 16.00\n\nNaam startl
 ocatie: Camping de notenwei\nAdres startlocatie: Zeendamsweg\nPostcode en 
 plaats: 7468rx enter\n \n \nLengte toertocht: nog niet exact bekent\nEindl
 ocatie toertocht:  Hetzelfde als de startlocatie\nSoort route: Road en off
 road\n\nToelichting: \nEen lang weekend vol (OFF)ROAD!De TCN500 2022 beloo
 ft een fantastisch (ALL) ROAD weekend te worden.Onze thuisbasis zal Campin
 g de Notenwei in Enter zijn\, van daaruit vertrekken de (all)road ritten e
 n na een dag hard werken op onze buffels\, kunnen wij hier weer aanschuive
 n voor het verzorgen van de inwendige mens.De onverharde ritten zijn samen
 gesteld door Bart Haarhuis die ieder zandpad in de omgeving kent\, en ons 
 enkele van de mooiste plekjes in de omgeving laat zien.Ook aan de asfalt r
 ijders is gedacht: voor hen zijn er ook mooie tripjes.We hebben op de camp
 ing de beschikking over een ruime veranda en een binnen verblijf waar ook 
 het sanitair is gehuisvest\, echter zijn de daar genuttigde drankjes voor 
 eigen rekening. Zelf wat meenemen en bij de tent nuttigen staat uiteraard 
 vrij.\n \nHet programma ziet er als volgt uit.\n \nVrijdag 30 september va
 naf 16.00 verzamelen\nTentje opzetten. En aansluitend bbqen. ook als je la
 ter komt is er mogelijk om te eten.\n \nZaterdag: Ontbijten. En gereed mak
 en voor de dikke dag offroad. &gt\;200 km.\nOf een mooie verharde route.\n
 S.avonds is er een uitgebreid stamppot buffet.\n \nZondag: Ontbijten. En w
 eer heerlijk rijden. \n \nDe prijs voor het gehele Tcn 500 weekend is 65 e
 uro.\n \n\n2x overnachting\n2x ontbijt\n1x BBQ\n1x stampot buffet\n\n \nOp
 geven kan nog tot en met donderdag 22 September. https://transalpclub.nl/a
 ctiviteiten/activiteiten-historie/evenement/177-tcn-500-allroad-road-2022
DTSTART:20220930T140000Z
DTEND:20221002T140000Z
LOCATION:Camping de Notenwei  (Zeendamsweg\, 7468 RX Enter)
SUMMARY:TCN 500 Allroad + Road 2022
URL:https://transalpclub.nl/activiteiten/activiteiten-historie/evenement/17
 7-tcn-500-allroad-road-2022
END:VEVENT
END:VCALENDAR
