BEGIN:VCALENDAR
VERSION:2.0
PRODID:-//https://transalpclub.nl///NONSGML kigkonsult.se iCalcreator 2.10.15//
METHOD:PUBLISH
BEGIN:VEVENT
UID:20260419T214450CEST-3021dO9iZe@https://transalpclub.nl/
DTSTAMP:20260419T194450Z
DESCRIPTION:Naam van de rit: Braebant 2022\nDatum: 16-10-2022 \nNaam organi
 sator:  ad mies\nStarttijd: 11:00 verzamelen vanaf 10:00\nNaam startlocati
 e: msd motorbandenservice  \nAdres startlocatie: lange hei 3 b    \nPostco
 de + plaats: 4714 RE Sprundel  \nTelefoon startlocatie: 0165-383741 \nGPS 
 coördinaten:51.32.04.34 N   4.35.07.20 O   \nLengte toertocht: ca 150 km  
                                   \nEindlocatie toertocht: zie start locat
 ie  \nSoort route: Allroad\nVerhard alternatief  Nee      \n\nAls vanouds 
 kent de provincie een grootte verscheidenheid  in landschap.\nDeels door d
 e natuur en groot deels door de mens vorm gegeven.\nDaar waar de ijstijden
  hun sporen hebben na gelaten heeft de mensch kans gezien dit naar zijn ha
 nd te zetten.\nDeze toertocht zal  daarmee de highlights van het westelijk
  deel belichten.\nLocaties als de brabantste wal\, het rozevenneke\, het l
 and van athena etc\nAl met al een tocht die de  diversiteit van dit deel v
 an brabant zal belichten\n\n GPS track komt online tijdig beschikbaar Staa
 t online.\n https://transalpclub.nl/activiteiten/activiteiten-historie/eve
 nement/178-brabantrit
DTSTART:20221016T080000Z
DTEND:20221016T140000Z
LOCATION:MSD Motorbandenservice\, Sprundel (Lange Hei 3\, 4714 RE Sprundel\
 , Netherlands)
SUMMARY:Brabantrit
URL:https://transalpclub.nl/activiteiten/activiteiten-historie/evenement/17
 8-brabantrit
END:VEVENT
END:VCALENDAR
