BEGIN:VCALENDAR
VERSION:2.0
PRODID:-//https://transalpclub.nl///NONSGML kigkonsult.se iCalcreator 2.10.15//
METHOD:PUBLISH
BEGIN:VEVENT
UID:20260419T212224CEST-4398iAwHGL@https://transalpclub.nl/
DTSTAMP:20260419T192224Z
DESCRIPTION:Op zaterdag 29 oktober is de Toer &amp\; Activiteiten Commissie
  vergadering waar we de plannen qua toerritten en activiteiten voor 2023 b
 epalen om zo tot een mooie toerkalender te komen.\nIeder lid is welkom om 
 mee te vergaderen. Of je nu al concrete plannen hebt voor een rit of activ
 iteit\, of dat je interesse hebt om dit in de toekomst te gaan doen.\nKome
 nd jaar is de rol van Toer Commissaris beschikbaar\, de vergadering is de 
 ideale gelegenheid om kennis te maken met de toerrit uitzetters en de take
 n van de Toer Commissaris.\nDit jaar zijn we welkom bij het bedrijf van on
 ze secretaris\, Joris van Baars: Circumflex Automatisering te Utrecht.\n 
 \nToer &amp\; Activiteiten Commissie vergadering\nTijd: 15:00 tot 17:00.\n
 Locatie: Circumflex Automatisering\, Proostwetering 18\, 3543 AE Utrecht\n
  \nDus mocht je geïnteresseerd zijn in het uitzetten van een rit\, het org
 aniseren van een activiteit of eventueel de rol van Toer Commissaris\, mel
 d je dan aan voor de vergadering via Bart Wezenberg activiteiten@transalpc
 lub.nl. https://transalpclub.nl/activiteiten/activiteiten-historie/eveneme
 nt/179-toer-activiteiten-commissie-vergadering
DTSTART:20221029T130000Z
DTEND:20221029T150000Z
LOCATION:? ()
SUMMARY:Toer & Activiteiten Commissie Vergadering
URL:https://transalpclub.nl/activiteiten/activiteiten-historie/evenement/17
 9-toer-activiteiten-commissie-vergadering
END:VEVENT
END:VCALENDAR
