BEGIN:VCALENDAR
VERSION:2.0
PRODID:-//https://transalpclub.nl///NONSGML kigkonsult.se iCalcreator 2.10.15//
METHOD:PUBLISH
BEGIN:VEVENT
UID:20260419T211751CEST-15353rjIfL@https://transalpclub.nl/
DTSTAMP:20260419T191751Z
DESCRIPTION:In de ALV bespreken we het afgelopen jaar en de plannen voor he
 t nieuwe seizoen. https://transalpclub.nl/activiteiten/activiteiten-histor
 ie/evenement/180-algemene-ledenvergadering-2023
DTSTART:20230114T183000Z
DTEND:20230114T213000Z
LOCATION:? ()
SUMMARY:Algemene Ledenvergadering 2023
URL:https://transalpclub.nl/activiteiten/activiteiten-historie/evenement/18
 0-algemene-ledenvergadering-2023
END:VEVENT
END:VCALENDAR
