BEGIN:VCALENDAR
VERSION:2.0
PRODID:-//https://transalpclub.nl///NONSGML kigkonsult.se iCalcreator 2.10.15//
METHOD:PUBLISH
BEGIN:VEVENT
UID:20260419T194837CEST-1220SMuNlZ@https://transalpclub.nl/
DTSTAMP:20260419T174837Z
DESCRIPTION:De Snertrit zal dit jaar door de Betuwe voeren en we pakken Waa
 l en Rijn dijkjes mee.We starten in Leerdam bij restaurant 't Veerhuys met
  een kop koffie en rijden dan snel Gelderland binnen. Door de landerijen r
 ondom Tiel komen we op de Waalbandijk uit om deze bij Ochten even te verla
 ten. Hierna gaan we weer de dijk op om in Dodewaard Snert te eten\, daarna
  gaan we bij Andelst door te steken naar Randwijk en daar de Randwijkse Ri
 jndijk te volgen. Via Kesteren en Lienden komen we op de Rijnbandijk uit d
 ie we volgen tot aan het Amsterdam-Rijnkanaal. Vanaf daar rijden we door O
 ranjestad Buren om uit eindelijk in het centrum van Geldermalsen te eindig
 en.\nZondag 6 novemberBeginpunt\, vanaf 10:00 open:Restaurant 't Veerhuys\
 , Kerkstraat 93\, 4141 AV LeerdamAfstand: 127km.Organisatie: Willem Jooste
 n pr@transalpclub.nl\n\nMeld je aan via deze pagina\, zorg wel dat je inge
 logd bent.Potentiële nieuwe leden kunnen mailen naar Willem Joosten pr@tra
 nsalpclub.nl https://transalpclub.nl/activiteiten/activiteiten-historie/ev
 enement/181-snertrit
DTSTART:20221106T090000Z
DTEND:20221106T150000Z
LOCATION:'t Veerhuys (Kerkstraat 93\, 4141 AV Leerdam)
SUMMARY:Snertrit
URL:https://transalpclub.nl/activiteiten/activiteiten-historie/evenement/18
 1-snertrit
END:VEVENT
END:VCALENDAR
