BEGIN:VCALENDAR
VERSION:2.0
PRODID:-//https://transalpclub.nl///NONSGML kigkonsult.se iCalcreator 2.10.15//
METHOD:PUBLISH
BEGIN:VEVENT
UID:20260419T211607CEST-36239xvGR0@https://transalpclub.nl/
DTSTAMP:20260419T191607Z
DESCRIPTION:Na 2 jaar afwezigheid is er weer een Motorbeurs!\nOok dit jaar 
 zal de TCN weer present zijn op de motorbeurs.\nWe staan in Hal 9 dit jaar
  naast de stand van de KNWV. Stand 9-B023. De beurscommissie heeft de stan
 d\, vernieuwd qua uitvoering.\nDe nieuwe Transalp XL 750 komt pas ergens i
 n April op de markt\, dus deze hebben wij helaas niet op de stand.\nWij he
 ffen een smerige CRF en een Dominator op ons podium om de stand aan te kle
 den.\nTCN clubleden bevolken onze stand\, spreek ze gerust aan. We hebben 
 koffie en een praatje voor iedereen die geïnteresseerd is.\n \nDonderdag 2
 3 en vrijdag 24 februari van 10.00h tot 21.00h.\nZaterdag 25 en zondag 26 
 februari van 10.00h tot 18.00h.\n \nInfo van de beurs zelf over bereikbaar
 heid\, vooral belangrijk als je denkt op de motor te komen.\nEr is dit jaa
 r namelijk beperkter motorparkeergelegenheid in de Jaarbeurs zelf\, dit ko
 st €5 en kun je het beste van te voren kopen.www.motorbeursutrecht.nl/prak
 tisch/ https://transalpclub.nl/activiteiten/activiteiten-historie/evenemen
 t/182-motorbeurs-2023
DTSTART:20230223T090000Z
DTEND:20230226T190000Z
LOCATION:Jaarbeursplein\, Utrecht (Jaarbeursplein\, 3521 Utrecht\, Netherla
 nds)
SUMMARY:Motorbeurs 2023
URL:https://transalpclub.nl/activiteiten/activiteiten-historie/evenement/18
 2-motorbeurs-2023
END:VEVENT
END:VCALENDAR
