BEGIN:VCALENDAR
VERSION:2.0
PRODID:-//https://transalpclub.nl///NONSGML kigkonsult.se iCalcreator 2.10.15//
METHOD:PUBLISH
BEGIN:VEVENT
UID:20260419T211918CEST-9173FFXivd@https://transalpclub.nl/
DTSTAMP:20260419T191918Z
DESCRIPTION:Vanuit de technische commissie plannen we elk jaar een aantal i
 nspectiedagen aan het begin van het motor seizoen zodat je jouw motor gron
 dig kunt laten inspecteren. Zo krijg je aan het begin van het seizoen al e
 en goed inzicht in de huidige staat van je motor. En met dat inzicht kun j
 e vervolgens eventuele pijnpunten aanpakken zodat je samen met je motor ti
 p-top het nieuwe motor seizoen in kan gaan.\nDeelname aan deze inspectieda
 gen is gratis\, maar je moet je wel inschrijven\, zodat degene die de insp
 ecties uitvoeren je kunnen inplannen zodat je niet te lang op je beurt hoe
 ft te wachten en iedereen voldoende aandacht kan krijgen.\nSneek is helaas
  ook VOL.\nWat kan je verwachten?\nNadat de inschrijvingen verwerkt zijn w
 ordt er een planning opgesteld en wordt je geïnformeerd voor welk dag-deel
  jij aan de beurt bent voor de inspectie.\nTijdens de inspectie kan je mee
 kijken hoe de inspectie verloopt en hoe jouw motor op diverse cruciale pun
 ten wordt geïnspecteerd. De inspectie zelf duurt ca. 45 minuten\, waarna j
 e samen met de ‘inspecteur’ alle constateringen nog eens doorloopt en je t
 ekst en uitleg krijgt bij de bevindingen.Uiteindelijk krijg je een formuli
 er waarop de aan te pakken gebreken zijn opgesomd en kan je zelf bepalen w
 at je hiermee gaat doen. De keuze blijft hierbij altijd aan jou\, om de ge
 breken zelf aan te pakken\, naar een dealer te gaan\, of (en dat horen wij
  natuurlijk het liefst) bij een van ons langs komt. Je kan er dan voor kie
 zen om ons of in samenwerking de punten aan te pakken. Zo kan je direct oo
 k weer bijleren over de techniek van je eigen motor.\nNaast het feit dat h
 et altijd heel gezellig is en je samen met mede clubgenoten onder het geno
 t van een hapje en drankje alvast het aankomende seizoen door neemt\, is h
 et ook nog eens een leerzame dag.\nAfhankelijk van de hoeveelheid deelneme
 rs kan het zijn dat we ook nog een korte workshop over een technisch onder
 werp plannen.\n \nDe locaties zijn verspreid over het land en vinden dit j
 aar volgens onderstaand schema plaats:\n\nZondag 12 maart – Alphen aan den
  Rijn VOL\nZondag 26 maart - Sprundel\nZondag 2 april - Sneek VOL\n\n \nTo
 t één van deze inspectie dagen en alvast een veilig motorseizoen gewenst n
 amens de technische commissie\,\n \nAd Mies\, Gerrit &amp\; Rob Geelen. ht
 tps://transalpclub.nl/activiteiten/activiteiten-historie/evenement/185-ins
 pectiedag-sneek-vol
DTSTART:20230402T080000Z
DTEND:20230402T140000Z
LOCATION:Gerrit-Jan de Timmerman (Fiifgeawei 34\, 8626 GC Offingawier)
SUMMARY:Inspectiedag Sneek- VOL
URL:https://transalpclub.nl/activiteiten/activiteiten-historie/evenement/18
 5-inspectiedag-sneek-vol
END:VEVENT
END:VCALENDAR
