BEGIN:VCALENDAR
VERSION:2.0
PRODID:-//https://transalpclub.nl///NONSGML kigkonsult.se iCalcreator 2.10.15//
METHOD:PUBLISH
BEGIN:VEVENT
UID:20260419T211903CEST-3099rPxuj3@https://transalpclub.nl/
DTSTAMP:20260419T191903Z
DESCRIPTION:Save the date: zaterdag 8 juli as TCN-Honda-event bij Ten Kate 
 Motoren! Speciaal voor TCN-leden is er 8 juli as een dag om kennis te make
 n met de nieuwe Transalp.\nTen Kate Motoren regelt samen met Honda Benelux
  meerdere Transalpen om mee proef te gaan rijden. Ten Kate Motoren biedt o
 ns daarnaast de mogelijkheid om ook met zijn grotere zusje en andere (club
 )motoren uit de Honda-stal proef te rijden.\nBehalve dat de lunch voor ons
  wordt verzorgd is er aan het eind van de dag een BBQ! Schrijf je (snel) i
 n\, want de motoren worden op volgorde van inschrijven uitgedeeld. Het han
 gt mede van de opkomst af hoe lang je kunt rijden\, maar reken op ongeveer
  een uur. Wij proberen het programma verder aan te kleden met – veel – tec
 hnische info over de nieuwe motor maar je kunt natuurlijk ook met al je vr
 agen over de andere motoren bij deze premium Honda-dealer terecht.\nHier k
 un je vinden bij wie je moet aanmelden. (Zorg dat je ingelogd bent!)Zowel 
 deelname als de lunch/BBQ is gratis. Ten Kate Motoren en de Transalp club 
 Nederland organiseren samen deze dag. O ja\, je kunt je ook aanmelden voor
  enkel de BBQ hoor.\nTot zaterdag 8 juli as in Nieuwleusen Bart Wezenberg 
 en Jan van den Berg\nn.b. Nog geen lid? Misschien is dit een goed moment o
 m lid te worden?\nWel lid\, maar geen toegang? Mail Willem Joosten pr@tran
 salpclub.nl https://transalpclub.nl/activiteiten/activiteiten-historie/eve
 nement/203-transalp-clubdag
DTSTART:20230708T080000Z
DTEND:20230708T150000Z
LOCATION:Ten Kate Motoren (Rollecate 55\, 7711 GG Nieuwleusen)
SUMMARY:Transalp Clubdag
URL:https://transalpclub.nl/activiteiten/activiteiten-historie/evenement/20
 3-transalp-clubdag
END:VEVENT
END:VCALENDAR
